BEGIN:VCALENDAR
VERSION:2.0
PRODID:-//ChamberMaster//Event Calendar 2.0//EN
METHOD:PUBLISH
X-PUBLISHED-TTL:P3D
REFRESH-INTERVAL:P3D
CALSCALE:GREGORIAN
BEGIN:VEVENT
DTSTART:20200917T210000Z
DTEND:20200920T010000Z
X-MICROSOFT-CDO-ALLDAYEVENT:FALSE
SUMMARY:National Hispanic Construction Association National Conference
DESCRIPTION:Hispanic Business Development & Construction Safety Conference\n\n\n\nNHCA Business Development Conference\n\n\n\nThe National Hispanic Construction Association presents for the first time\, the NHCA Business Development Conference with the purpose of nurturing and elevating your construction business. Hear from the experts\, learn how to succeed in the construction industry and get ahead of the game.
X-ALT-DESC;FMTTYPE=text/html:<strong>Hispanic Business Development &amp\; Construction Safety Conference</strong><br />\n<br />\n<u>NHCA Business Development Conference</u><br />\n<br />\nThe National Hispanic Construction Association presents for the first time\, the NHCA Business Development Conference with the purpose of nurturing and elevating your construction business. Hear from the experts\, learn how to succeed in the construction industry and get ahead of the game.
LOCATION:Sheraton Grand Chicago 301 E North Water St Chicago\, IL 60611 --
UID:e.9342.1492
SEQUENCE:3
DTSTAMP:20260424T055757Z
URL:http://georgiahcaga.memberzone.com/events/details/national-hispanic-construction-association-national-conference-1492
END:VEVENT

END:VCALENDAR
