BEGIN:VCALENDAR
VERSION:2.0
PRODID:-//ChamberMaster//Event Calendar 2.0//EN
METHOD:PUBLISH
X-PUBLISHED-TTL:P3D
REFRESH-INTERVAL:P3D
CALSCALE:GREGORIAN
BEGIN:VEVENT
DTSTART:20240507T143000Z
DTEND:20240507T160000Z
X-MICROSOFT-CDO-ALLDAYEVENT:FALSE
SUMMARY:New South - Synergy Outreach Event | Aviation Administration Center
DESCRIPTION:New South - Synergy\, A Joint Venture is excited to announce our Collaboration with Hartsfield-Jackson International Airport on the Aviation Administration Project
X-ALT-DESC;FMTTYPE=text/html:<span style="font-size:18px\;">New South - Synergy\, A Joint Venture is excited to announce our Collaboration with Hartsfield-Jackson International Airport on the Aviation Administration Project</span>
LOCATION:Renaissance Atlanta Airport Gateway Hotel C2081 Convention Center Concourse\, Atlanta\, GA\, 30337
UID:e.9342.1834
SEQUENCE:3
DTSTAMP:20260419T230621Z
URL:http://georgiahcaga.memberzone.com/events/details/new-south-synergy-outreach-event-aviation-administration-center-1834
END:VEVENT

END:VCALENDAR
