BEGIN:VCALENDAR
VERSION:2.0
PRODID:-//ChamberMaster//Event Calendar 2.0//EN
METHOD:PUBLISH
X-PUBLISHED-TTL:P3D
REFRESH-INTERVAL:P3D
CALSCALE:GREGORIAN
BEGIN:VEVENT
DTSTART:20200326T010000Z
DTEND:20200326T060000Z
X-MICROSOFT-CDO-ALLDAYEVENT:FALSE
SUMMARY:OSHA 10 Certification Class
DESCRIPTION:The OSHA 10 is intended to provide an entry level construction worker's general awareness on recognizing and preventing hazards on a construction site.\n\n\n\nThis course is 10 hours an we will be splitting it into 2 days. \n\nThis event has a capped number of attendees so please be sure to register your individual employees who plan on attending as quickly as possible using the link below.\n\n\n\nThe Blue Book Network and Excellence Contractors Group are hosting an OSHA 10 Certification Class event.
X-ALT-DESC;FMTTYPE=text/html:<p style="color: rgb(34\, 34\, 34)\; font-family: Arial\, Helvetica\, sans-serif\; font-size: small\;"><span style="font-family:tahoma\;"><span style="font-size:12px\;"><span style="color: rgb(55\, 58\, 60)\;">The&nbsp\;<b>OSHA 10</b>&nbsp\;is intended to provide an entry level construction worker&rsquo\;s general awareness on recognizing and preventing hazards on a construction site.<br />\n<br />\nThis course is 10 hours an we will be</span>&nbsp\;splitting it into 2 days.&nbsp\;</span></span></p>\n\n<p style="color: rgb(34\, 34\, 34)\; font-family: Arial\, Helvetica\, sans-serif\; font-size: small\;"><span style="font-family:tahoma\;"><span style="font-size:12px\;">This event has&nbsp\;a capped number of attendees so please be sure to register your individual&nbsp\;employees who plan on attending as quickly as possible using the link below.</span></span><br />\n<br />\n<span style="color: rgb(34\, 34\, 34)\; font-family: tahoma\; font-size: 12px\;">The Blue Book Network and Excellence Contractors Group are hosting an&nbsp\;</span><strong style="color: rgb(34\, 34\, 34)\; font-family: tahoma\; font-size: 12px\;">OSHA&nbsp\;10&nbsp\;Certification Class&nbsp\;</strong><span style="color: rgb(34\, 34\, 34)\; font-family: tahoma\; font-size: 12px\;">event.</span></p>\n
LOCATION:Excellence Contractors Group 2830 Simpson Circle Norcross\, GA 30071
UID:e.9342.1501
SEQUENCE:3
DTSTAMP:20260424T203253Z
URL:http://georgiahcaga.memberzone.com/events/details/osha-10-certification-class-2-classes-03-26-2020-1501
END:VEVENT

END:VCALENDAR
