BEGIN:VCALENDAR
VERSION:2.0
PRODID:-//ChamberMaster//Event Calendar 2.0//EN
METHOD:PUBLISH
X-PUBLISHED-TTL:P3D
REFRESH-INTERVAL:P3D
CALSCALE:GREGORIAN
BEGIN:VEVENT
DTSTART:20230202T170000Z
DTEND:20230202T180000Z
X-MICROSOFT-CDO-ALLDAYEVENT:FALSE
SUMMARY:Overview of Various Types of Certifications
DESCRIPTION:Learn about the importance of certifications! What are the advantages of federal contracting? Which are the certifications to do business with the federal government? Learn about the Women-Owned Small Business Certification and how it can help grow\n\nyour business by increasing your chances of winning contracts!
X-ALT-DESC;FMTTYPE=text/html:<div>&nbsp\;</div>\n\n<div><span style="color: rgb(70\, 70\, 70)\; font-family: &quot\;Open Sans&quot\;\, Helvetica\, Arial\, Lucida\, sans-serif\; font-size: 14px\; text-align: center\; background-color: rgb(255\, 255\, 255)\;">Learn about the importance of certifications! What are the advantages of federal contracting? Which are the certifications to do business with the federal government? Learn about the Women-Owned Small Business Certification and how it can help grow</span><br style="box-sizing: border-box\; color: rgb(70\, 70\, 70)\; font-family: &quot\;Open Sans&quot\;\, Helvetica\, Arial\, Lucida\, sans-serif\; font-size: 14px\; text-align: center\; background-color: rgb(255\, 255\, 255)\;" />\n<span style="color: rgb(70\, 70\, 70)\; font-family: &quot\;Open Sans&quot\;\, Helvetica\, Arial\, Lucida\, sans-serif\; font-size: 14px\; text-align: center\; background-color: rgb(255\, 255\, 255)\;">your business by increasing your chances of winning contracts!</span></div>\n
LOCATION:
UID:e.9342.1706
SEQUENCE:3
DTSTAMP:20260423T090141Z
URL:http://georgiahcaga.memberzone.com/events/details/overview-of-various-types-of-certifications-1706
END:VEVENT

END:VCALENDAR
