BEGIN:VCALENDAR
VERSION:2.0
PRODID:-//ChamberMaster//Event Calendar 2.0//EN
METHOD:PUBLISH
X-PUBLISHED-TTL:P3D
REFRESH-INTERVAL:P3D
CALSCALE:GREGORIAN
BEGIN:VEVENT
DTSTART:20210831T200000Z
DTEND:20210831T220000Z
X-MICROSOFT-CDO-ALLDAYEVENT:FALSE
SUMMARY:Planificación Estratégica - Latinas en Construcción
DESCRIPTION:If you are looking for an excellent tool to improve your company's performance this Seminar is for you! \n\nOn August 31st we will host a Strategic planning session where an expert from the Small Business Development Center will explain in detail this critical organizational management activity used to set priorities\, focus energy and resources\, strengthen operations and ensure that employees and other stakeholders are working toward common goals!\n\n\n\nDon't miss it! Invitation open to everyone\, but specially women in construction!
X-ALT-DESC;FMTTYPE=text/html:<span style="font-size:20px\;">If you are looking for an excellent tool to improve your company&rsquo\;s performance this Seminar is for you!&nbsp\;<br />\nOn August 31st we will host a Strategic planning session where an expert from the Small Business Development Center will explain in detail this critical organizational management activity used to set priorities\, focus energy and resources\, strengthen operations and ensure that employees and other stakeholders are working toward common goals!<br />\n<br />\nDon&rsquo\;t miss it! Invitation open to everyone\, but specially women in construction!</span>
LOCATION:Virtual Session
UID:e.9342.1562
SEQUENCE:3
DTSTAMP:20260422T225713Z
URL:http://georgiahcaga.memberzone.com/events/details/planificaci&#243;n-estrat&#233;gica-latinas-en-construcci&#243;n-1562
END:VEVENT

END:VCALENDAR
