BEGIN:VCALENDAR
VERSION:2.0
PRODID:-//ChamberMaster//Event Calendar 2.0//EN
METHOD:PUBLISH
X-PUBLISHED-TTL:P3D
REFRESH-INTERVAL:P3D
CALSCALE:GREGORIAN
BEGIN:VEVENT
DTSTART:20200522T130000Z
DTEND:20200522T140000Z
X-MICROSOFT-CDO-ALLDAYEVENT:FALSE
SUMMARY:PPP Forgiveness Guidance\, hosted by Small Business Series
DESCRIPTION:Gwinnett County Administration and ACE Women's Business Center invites you to participate in their next webinar.\n\n\n\nThe U.S. Small Business Administration and Department of Treasury recently rolled out the Paycheck Protection Program Forgiveness Application. \n\nDo you need some clarity around loan forgiveness? Attend this informative webinar.  REGISTER HERE
X-ALT-DESC;FMTTYPE=text/html:<p style="box-sizing: inherit\; margin-top: 0px\; margin-bottom: 1rem\; caret-color: rgb(33\, 37\, 41)\; color: rgb(33\, 37\, 41)\; font-family: Montserrat\, Arial\, Helvetica\, &quot\;Nimbus Sans L&quot\;\, sans-serif\; font-size: 15.199999809265137px\;"><span style="font-size:20px\;"><a href="https://www.gwinnettcounty.com/web/gwinnett/Home">Gwinnett County Administration&nbsp\;</a>and&nbsp\;<a href="https://aceloans.org">ACE Women&#39\;s Business Center&nbsp\;</a>invites you to participate in their next webinar.<br />\n<br />\n<span style="box-sizing: inherit\;">The U.S. Small Business Administration and Department of Treasury recently rolled out the Paycheck Protection Program Forgiveness Application.&nbsp\;</span></span></p>\n\n<p style="box-sizing: inherit\; margin-top: 0px\; margin-bottom: 1rem\; caret-color: rgb(33\, 37\, 41)\; color: rgb(33\, 37\, 41)\; font-family: Montserrat\, Arial\, Helvetica\, &quot\;Nimbus Sans L&quot\;\, sans-serif\; font-size: 15.199999809265137px\;"><span style="font-size:20px\;"><span style="box-sizing: inherit\;">Do you need some clarity around loan forgiveness? Attend this informative webinar.</span>&nbsp\;&nbsp\;<a href="https://gwinnettgacoc.wliinc17.com/events/PPP-Forgiveness-Guidance-hosted-by-Small-Business-Series--3501/details?fbclid=IwAR3KyTL3YbRYBcgc5mNesM9P76xahV5qELwzgQlxwG9RYcBEL03zaDvZmtY"><strong>REGISTER HERE</strong></a></span></p>\n
LOCATION:
UID:e.9342.1513
SEQUENCE:3
DTSTAMP:20260424T151346Z
URL:http://georgiahcaga.memberzone.com/events/details/ppp-forgiveness-guidance-hosted-by-small-business-series-1513
END:VEVENT

END:VCALENDAR
