BEGIN:VCALENDAR
VERSION:2.0
PRODID:-//ChamberMaster//Event Calendar 2.0//EN
METHOD:PUBLISH
X-PUBLISHED-TTL:P3D
REFRESH-INTERVAL:P3D
CALSCALE:GREGORIAN
BEGIN:VEVENT
DTSTART:20210929T140000Z
DTEND:20210929T160000Z
X-MICROSOFT-CDO-ALLDAYEVENT:FALSE
SUMMARY:PRE-BID MEETING AND NETWORKING EVENT: MCAULEY PARK HOUSING PHASE I
DESCRIPTION:Learn about potential MWBE & Section 3 contracting opportunities\n\nReceive an overview of the McAuley Park Project\n\nHear about the bid requirements\, construction schedule and related information\n\nLearn about potential local contracting opportunities
X-ALT-DESC;FMTTYPE=text/html:Learn about potential MWBE &amp\; Section 3 contracting opportunities<br />\nReceive an overview of the McAuley Park Project<br />\nHear about the bid requirements\, construction schedule and related information<br />\nLearn about potential local contracting opportunities
LOCATION:The Gathering Spot 384 Northyards Blvd. Suite 190\, Atlanta\, GA 30313
UID:e.9342.1600
SEQUENCE:3
DTSTAMP:20260423T001007Z
URL:http://georgiahcaga.memberzone.com/events/details/pre-bid-meeting-and-networking-event-mcauley-park-housing-phase-i-1600
END:VEVENT

END:VCALENDAR
