BEGIN:VCALENDAR
VERSION:2.0
PRODID:-//ChamberMaster//Event Calendar 2.0//EN
METHOD:PUBLISH
X-PUBLISHED-TTL:P3D
REFRESH-INTERVAL:P3D
CALSCALE:GREGORIAN
BEGIN:VEVENT
DTSTART:20240610T160000Z
DTEND:20240610T180000Z
X-MICROSOFT-CDO-ALLDAYEVENT:FALSE
SUMMARY:PRE-BID MEETING & INFORMATION SESSION
DESCRIPTION:Capston Building Corp and Atlanta Housing are Calling all subcontractor and vendors for:\n\n	 Erosion control\n	Site demolition\n	Clearing & grading hauling\n	Sanitary sewer\n	Storm sewer\n	Fencing\n\nEVENT HAPPENINGS\n\n- Site visit for bidders\n\n- Review project scope or work\n\n- Discuss bidding requirements\n\n- Discuss Section 3 & MWBE\n\n- Question & Answer session\n\n- Review of plans
X-ALT-DESC;FMTTYPE=text/html:<span style="font-size:22px\;"><span style="font-family:tahoma\;"><span style="font-size:24px\;">Capston Building Corp and Atlanta Housing are Calling all subcontractor and vendors for:</span></span></span>\n<ul>\n	<li><span style="font-size:22px\;"><span style="font-family:tahoma\;">&#8203\;Erosion control</span></span></li>\n	<li><span style="font-size:22px\;"><span style="font-family:tahoma\;">Site demolition</span></span></li>\n	<li><span style="font-size:22px\;"><span style="font-family:tahoma\;">Clearing &amp\; grading hauling</span></span></li>\n	<li><span style="font-size:22px\;"><span style="font-family:tahoma\;">Sanitary sewer</span></span></li>\n	<li><span style="font-size:22px\;"><span style="font-family:tahoma\;">Storm sewer</span></span></li>\n	<li><span style="font-size:22px\;"><span style="font-family:tahoma\;"><span style="font-size:22px\;"><span style="font-family:tahoma\;">Fencing</span></span></span></span></li>\n</ul>\n<span style="font-size:22px\;"><span style="font-family:tahoma\;"><strong>EVENT HAPPENINGS</strong><br />\n- Site visit for bidders<br />\n- Review project scope or work<br />\n- Discuss bidding requirements<br />\n- Discuss Section 3 &amp\; MWBE<br />\n- Question &amp\; Answer session<br />\n- Review of plans</span></span>
LOCATION:The Gathering Spot ATL 384 Northyards Blvd. NW Atlanta\, Georgia 30318
UID:e.9342.1841
SEQUENCE:3
DTSTAMP:20260420T001730Z
URL:http://georgiahcaga.memberzone.com/events/details/pre-bid-meeting-information-session-1841
END:VEVENT

END:VCALENDAR
