BEGIN:VCALENDAR
VERSION:2.0
PRODID:-//ChamberMaster//Event Calendar 2.0//EN
METHOD:PUBLISH
X-PUBLISHED-TTL:P3D
REFRESH-INTERVAL:P3D
CALSCALE:GREGORIAN
BEGIN:VEVENT
DTSTART:20231108T230000Z
DTEND:20231109T010000Z
X-MICROSOFT-CDO-ALLDAYEVENT:FALSE
SUMMARY:Pre-Con Serie: Estimación de costos
DESCRIPTION:Sesi n 1- Lectura de planos (1 de noviembre)\n\nSesi n 2- Estimaci n de costos (8 de noviembre)\n\nSesi n 3- Presenta la propuesta ganadora (15 de noviembre)
X-ALT-DESC;FMTTYPE=text/html:&nbsp\;<br />\n<span style="background:white\;"><span style="color:black\;"><span style="font-family:tahoma\,sans-serif\;"><span style="font-size:16.5pt\;">Sesi&oacute\;n 1- Lectura de planos (1 de noviembre)</span></span></span></span><br style="font-variant-ligatures:normal\;font-variant-caps:normal\;orphans:2\;text-align:start\;widows:2\;-webkit-text-stroke-width:0px\;text-decoration-thickness:initial\;text-decoration-style:initial\;word-spacing:0px\;" />\n<span style="color:black\;"><span style="font-family:tahoma\,sans-serif\;"><span style="font-size:16.5pt\;"><span style="background:white\;"><span style="font-variant-ligatures:normal\;font-variant-caps:normal\;orphans:2\;text-align:start\;widows:2\;-webkit-text-stroke-width:0px\;text-decoration-thickness:initial\;text-decoration-style:initial\;float:none\;word-spacing:0px\;">Sesi&oacute\;n 2- Estimaci&oacute\;n de costos (8 de noviembre)</span></span><br style="font-variant-ligatures:normal\;font-variant-caps:normal\;orphans:2\;text-align:start\;widows:2\;-webkit-text-stroke-width:0px\;text-decoration-thickness:initial\;text-decoration-style:initial\;word-spacing:0px\;" />\n<span style="background:white\;"><span style="font-variant-ligatures:normal\;font-variant-caps:normal\;orphans:2\;text-align:start\;widows:2\;-webkit-text-stroke-width:0px\;text-decoration-thickness:initial\;text-decoration-style:initial\;float:none\;word-spacing:0px\;">Sesi&oacute\;n 3- Presenta la propuesta ganadora (15 de noviembre)</span></span></span></span></span>
LOCATION:GHCA 2750 Buford Hwy SE\, Atlanta\, GA\, 30324 Auditorio segundo piso
UID:e.9342.1767
SEQUENCE:3
DTSTAMP:20260420T112758Z
URL:http://georgiahcaga.memberzone.com/events/details/pre-con-serie-estimaci&#243;n-de-costos-1767
END:VEVENT

END:VCALENDAR
