BEGIN:VCALENDAR
VERSION:2.0
PRODID:-//ChamberMaster//Event Calendar 2.0//EN
METHOD:PUBLISH
X-PUBLISHED-TTL:P3D
REFRESH-INTERVAL:P3D
CALSCALE:GREGORIAN
BEGIN:VEVENT
DTSTART:20240125T230000Z
DTEND:20240126T010000Z
X-MICROSOFT-CDO-ALLDAYEVENT:FALSE
SUMMARY:Pre-Con Serie: How to Prepare a Winning Proposal.
DESCRIPTION:How to Prepare a Winning Proposal is an interactive session focused on the key components needed to ensure your organization is putting its best foot forward in developing a quality\, competitive submittal\, the last step of your business development cycle.\n\nJerri Sumlin\, Director of Business Development for H.J. Russell & Company\, a seasoned business development and marketing leader with over 25 years of professional experience\, will guide us through the best practices for organizing the proposal and sections: what to include\, how to write about\, the best formatting\, and making sure that the responses comply with the RFP requirements. In other words: what a proposal is and what is not.\n\n \n\nKnow more about Jerry.\n\n \n\nJerri Sumlin's extensive background includes identifying\, evaluating\, and strategically pursuing priority business opportunities\, developing\, and implementing tactical marketing plans\, as well as leading the proposal management process. Throughout the years\, she's been able to mine her broad A/E/C industry experience in the water/wastewater\, transportation\, environmental\, energy\, education\, industrial\, and commercial sectors with various organizations from heavy civil general contractors\, and manufacturers to engineering consultants.  \n\nCurrently\, Jerri serves as the Director of Business Development for H.J. Russell & Company\, one of the largest minority-owned construction services businesses in the United States.  \n\n \n\nThis session will be conducted in English.
X-ALT-DESC;FMTTYPE=text/html:<span style="font-size:24px\;"><span style="font-family:tahoma\;"><span style="color:#000000\;"><strong><em>How to Prepare a Winning Proposal</em></strong> is an interactive session focused on the key components needed to ensure your organization is putting its best foot forward in developing a quality\, competitive submittal\, the last step of your business development cycle.<br />\n<strong>Jerri Sumlin\,</strong> <em>Director of Business Development</em> for <strong>H.J. Russell &amp\; Company</strong>\, a seasoned business development and marketing leader with over 25 years of professional experience\, will guide us through the best practices for organizing the proposal and sections: what to include\, how to write about\, the best formatting\, and making sure that the responses comply with the RFP requirements. In other words: what a proposal <em>is</em> and what <em>is not</em>.<br />\n&nbsp\;<br />\nKnow more about Jerry.<br />\n&nbsp\;<br />\n<strong>Jerri Sumlin&rsquo\;s</strong> extensive background includes identifying\, evaluating\, and strategically pursuing priority business opportunities\, developing\, and implementing tactical marketing plans\, as well as leading the proposal management process. Throughout the years\, she&rsquo\;s been able to mine her broad A/E/C industry experience in the water/wastewater\, transportation\, environmental\, energy\, education\, industrial\, and commercial sectors with various organizations from heavy civil general contractors\, and manufacturers to engineering consultants.&nbsp\;&nbsp\;<br />\nCurrently\, Jerri serves as the <em>Director of Business Development</em> for <strong>H.J. Russell &amp\; Company</strong>\, one of the largest minority-owned construction services businesses in the United States.&nbsp\;&nbsp\;<br />\n&nbsp\;<br />\nThis session will be conducted in English.</span></span></span>
LOCATION:GHCA Headquarters 2750 Buford Hwy NE\, Atlanta\, GA\, 30324 Auditorium #1\, Second Floor
UID:e.9342.1773
SEQUENCE:3
DTSTAMP:20260420T055144Z
URL:http://georgiahcaga.memberzone.com/events/details/pre-con-serie-how-to-prepare-a-winning-proposal-1773
END:VEVENT

END:VCALENDAR
