BEGIN:VCALENDAR
VERSION:2.0
PRODID:-//ChamberMaster//Event Calendar 2.0//EN
METHOD:PUBLISH
X-PUBLISHED-TTL:P3D
REFRESH-INTERVAL:P3D
CALSCALE:GREGORIAN
BEGIN:VEVENT
DTSTART:20221111T223000Z
DTEND:20221112T010000Z
X-MICROSOFT-CDO-ALLDAYEVENT:FALSE
SUMMARY:PRE-GALA GHCA 2022
DESCRIPTION:
X-ALT-DESC;FMTTYPE=text/html:
LOCATION:
UID:e.9342.1686
SEQUENCE:3
DTSTAMP:20260421T174449Z
URL:http://georgiahcaga.memberzone.com/events/details/pre-gala-ghca-2022-1686
END:VEVENT

END:VCALENDAR
