BEGIN:VCALENDAR
VERSION:2.0
PRODID:-//ChamberMaster//Event Calendar 2.0//EN
METHOD:PUBLISH
X-PUBLISHED-TTL:P3D
REFRESH-INTERVAL:P3D
CALSCALE:GREGORIAN
BEGIN:VEVENT
DTSTART:20231018T213000Z
DTEND:20231018T233000Z
X-MICROSOFT-CDO-ALLDAYEVENT:FALSE
SUMMARY:Prepare su negocio para obtener contratos (con Prospera)
DESCRIPTION:Todo sobre certificaciones para peque os negocios.
X-ALT-DESC;FMTTYPE=text/html:<font style="vertical-align: inherit\;"><font style="vertical-align: inherit\;">Todo sobre certificaciones para peque&ntilde\;os negocios.&nbsp\;</font></font>
LOCATION:Asociaci n Latinoamericana 2750 Buford Hwy. NE. Atlanta\, Georgia. 30324
UID:e.9342.1764
SEQUENCE:3
DTSTAMP:20260420T162804Z
URL:http://georgiahcaga.memberzone.com/events/details/prepare-su-negocio-para-obtener-contratos-con-prospera-1764
END:VEVENT

END:VCALENDAR
