BEGIN:VCALENDAR
VERSION:2.0
PRODID:-//ChamberMaster//Event Calendar 2.0//EN
METHOD:PUBLISH
X-PUBLISHED-TTL:P3D
REFRESH-INTERVAL:P3D
CALSCALE:GREGORIAN
BEGIN:VEVENT
DTSTART:20201118T210000Z
DTEND:20201118T230000Z
X-MICROSOFT-CDO-ALLDAYEVENT:FALSE
SUMMARY:Programación Eficaz de Proyectos
DESCRIPTION:La programaci n (scheduling) es un factor esencial para aumentar la eficiencia durante el ciclo de vida de un proyecto. Este seminario pretente explicar de forma sencilla las tres etapas de un cronograma de control de proyecto y los conceptos b sicos relacionados al desarrollo del cronograma en cada una de estas etapas.\n\n \n\nEste seminario esta dirigido a due os de empresa y gerentes de proyectos que interesan aprender y expandir los conceptos sobre el desarrollo\, control y mantenimiento de un cronograma de ejecuci n durante la obra.\n\n \n\nAl terminar dicho adiestramiento\, los participantes deber n entender los siguientes conceptos:\n\n- Tres etapas de un cronograma de control de proyectos.\n\n- Conceptos b sicos y terminolog a de cada etapa.\n\n- Diferencias entre los cronogramas que se desarrollan durante el progreso de obra y su respectiva utlizaci n.\n\n\n\nNo se pueden perder este evento online el proximo Mi rcoles\, Noviembre 18 de 4:00 a 6:00 pm.\n\n\n\nGracias a nuestros patrocinadores MFC Remodels\, Argos y JPMorgan Chase & Co. por hacer posible este seminario.\n\n\n\nLibby Goyco es ingeniera profesional licenciada orientada a soluciones estrat gicas de negocios\, certificada como Profesional de Gerencia de Proyectos (PMP) y Profesional de Planificaci n y Programaci n (PSP)\, con una maestr a en Administraci n de Empresas Generales (MBA) con especializaci n en Administraci n de Construcci n e Ingenier a. Cuenta con m s de 20 a os de experiencia en Gerencia General\, Gerencia de Programas\, Gerencia de Proyectos y Gerencia de Controles de Proyectos para impulsar iniciativas cr ticas hacia un objetivo com n: su  xito y el de su empresa.
X-ALT-DESC;FMTTYPE=text/html:<h2 style="border: 0px\; border-collapse: collapse\; border-spacing: 0px\; list-style: none\; margin: 0px\; padding: 0px\; font-variant-numeric: normal\; font-variant-east-asian: normal\; font-stretch: normal\; font-size: 20px\; line-height: 24px\; font-family: Roboto\, sans-serif\; color: rgb(102\, 102\, 102)\;">La programaci&oacute\;n (scheduling) es un factor esencial para aumentar la eficiencia durante el ciclo de vida de un proyecto. Este seminario pretente explicar de forma sencilla las tres etapas de un cronograma de control de proyecto y los conceptos b&aacute\;sicos relacionados al desarrollo del cronograma en cada una de estas etapas.<br />\n&nbsp\;<br />\nEste seminario esta dirigido a due&ntilde\;os de empresa y gerentes de proyectos que interesan aprender y expandir los conceptos sobre el desarrollo\, control y mantenimiento de un cronograma de ejecuci&oacute\;n durante la obra.<br />\n&nbsp\;<br />\nAl terminar dicho adiestramiento\, los participantes deber&aacute\;n entender los siguientes conceptos:<br />\n- Tres etapas de un cronograma de control de proyectos.<br />\n- Conceptos b&aacute\;sicos y terminolog&iacute\;a de cada etapa.<br />\n- Diferencias entre los cronogramas que se desarrollan durante el progreso de obra y su respectiva utlizaci&oacute\;n.<br />\n<br />\nNo se pueden perder este evento online el proximo Mi&eacute\;rcoles\, Noviembre 18 de 4:00 a 6:00 pm.<br />\n<br />\nGracias a nuestros patrocinadores MFC Remodels\, Argos y JPMorgan Chase &amp\; Co. por hacer posible este seminario.<br />\n<br />\nLibby Goyco es ingeniera profesional licenciada orientada a soluciones estrat&eacute\;gicas de negocios\, certificada como Profesional de Gerencia de Proyectos (PMP) y Profesional de Planificaci&oacute\;n y Programaci&oacute\;n (PSP)\, con una maestr&iacute\;a en Administraci&oacute\;n de Empresas Generales (MBA) con especializaci&oacute\;n en Administraci&oacute\;n de Construcci&oacute\;n e Ingenier&iacute\;a. Cuenta con m&aacute\;s de 20 a&ntilde\;os de experiencia en Gerencia General\, Gerencia de Programas\, Gerencia de Proyectos y Gerencia de Controles de Proyectos para impulsar iniciativas cr&iacute\;ticas hacia un objetivo com&uacute\;n: su &eacute\;xito y el de su empresa.</h2>\n
LOCATION:Zoom meeting - Seminario Virtual
UID:e.9342.1479
SEQUENCE:3
DTSTAMP:20260424T023235Z
URL:http://georgiahcaga.memberzone.com/events/details/project-control-fundamentos-b&#225;sicos-de-control-de-proyectos-1479
END:VEVENT

END:VCALENDAR
