BEGIN:VCALENDAR
VERSION:2.0
PRODID:-//ChamberMaster//Event Calendar 2.0//EN
METHOD:PUBLISH
X-PUBLISHED-TTL:P3D
REFRESH-INTERVAL:P3D
CALSCALE:GREGORIAN
BEGIN:VEVENT
DTSTART:20201217T200000Z
DTEND:20201217T210000Z
X-MICROSOFT-CDO-ALLDAYEVENT:FALSE
SUMMARY:Project Information Forum: Small Business and Subcontractor Outreach
DESCRIPTION:Project Description: The new multi-story research building will increase the CDC's capabilities in high containment\n\nresearch. The High Containment Continuity Laboratory (HCCL) building will be a Biosafety Level-4 (BSL-4) facility\, a designation\n\nreserved for the highest level of biological safety.\n\n\n\nSmall Business 10%\n\nSmall & Disadvantaged 5%\n\nWomen-Owned Small Business 5%\n\nHUBZone 3%\n\nService-Disabled Veteran-Owned 3%\n\n\n\nPoints of Contact\n\nBen Smedsrud   Project Manager\, Bsmedsrud@mccarthy.com\n\nGriffin Hall   Preconstruction Director\, Ghall@mccarthy.com\n\n\n\nKamecia Mason   Community Outreach & Inclusion Director\, kmason@mccarthy.com\n\nKey Websites & Small Business Resources (Click to visit website)\n\n\n\nBidding Anticipated to start March 2021 | Award Packages anticipated in June 2021
X-ALT-DESC;FMTTYPE=text/html:<span style="font-size:20px\;"><span style="font-family:tahoma\;">Project Description: The new multi-story research building will increase the CDC&rsquo\;s capabilities in high containment<br />\nresearch. The High Containment Continuity Laboratory (HCCL) building will be a Biosafety Level-4 (BSL-4) facility\, a designation<br />\nreserved for the highest level of biological safety.<br />\n<br />\nSmall Business 10%<br />\nSmall &amp\; Disadvantaged 5%<br />\nWomen-Owned Small Business 5%<br />\nHUBZone 3%<br />\nService-Disabled Veteran-Owned 3%<br />\n<br />\nPoints of Contact<br />\nBen Smedsrud &ndash\; Project Manager\, Bsmedsrud@mccarthy.com<br />\nGriffin Hall &ndash\; Preconstruction Director\, Ghall@mccarthy.com<br />\n<br />\nKamecia Mason &ndash\; Community Outreach &amp\; Inclusion Director\, kmason@mccarthy.com<br />\nKey Websites &amp\; Small Business Resources (Click to visit website)<br />\n<br />\nBidding Anticipated to start March 2021 | Award Packages anticipated in June 2021</span></span>
LOCATION:Virtual Event | Register Here
UID:e.9342.1569
SEQUENCE:3
DTSTAMP:20260423T224430Z
URL:http://georgiahcaga.memberzone.com/events/details/project-information-forum-small-business-and-subcontractor-outreach-1569
END:VEVENT

END:VCALENDAR
