BEGIN:VCALENDAR
VERSION:2.0
PRODID:-//ChamberMaster//Event Calendar 2.0//EN
METHOD:PUBLISH
X-PUBLISHED-TTL:P3D
REFRESH-INTERVAL:P3D
CALSCALE:GREGORIAN
BEGIN:VEVENT
DTSTART:20230323T173000Z
DTEND:20230323T183000Z
X-MICROSOFT-CDO-ALLDAYEVENT:FALSE
SUMMARY:Project information session for the new Brookhaven City Hall with McCarthy.
DESCRIPTION:McCarthy \, will be conducting a project information session for  the new Brookhaven City Hall and parking deck (will include a three-level city hall building on top of one level of below grade parking) Attached are the event details for your use.\n\nEarly Release Work Categories:\n\nShoring\n\nEarthwork & Utilities\n\nFoundations\n\nElevators\n\nFire Protection\n\nPlumbing\n\nHVAC\n\nElectrical
X-ALT-DESC;FMTTYPE=text/html:<span style="font-size: 14px\; color: rgb(85\, 85\, 85)\; background-color: rgb(255\, 255\, 255)\; font-family: arial\, sans-serif\;">McCarthy \, will be conducting a project&nbsp\;information session for&nbsp\; the new Brookhaven City Hall&nbsp\;and parking deck (will include a three-level city hall building on top of one level of below grade parking) Attached are the event details for your use.</span><br />\nEarly Release Work Categories:<br />\nShoring<br />\nEarthwork &amp\; Utilities<br />\nFoundations<br />\nElevators<br />\nFire Protection<br />\nPlumbing<br />\nHVAC<br />\nElectrical<br />\n<br />\n&nbsp\;
LOCATION:Brookhaven City Hall 4362 Peachtree Road NE\, Brookhaven\, GA 30319\; CONF - Council Chamber
UID:e.9342.1729
SEQUENCE:3
DTSTAMP:20260421T080629Z
URL:http://georgiahcaga.memberzone.com/events/details/project-information-session-for-the-new-brookhaven-city-hall-with-mccarthy-1729
END:VEVENT

END:VCALENDAR
