BEGIN:VCALENDAR
VERSION:2.0
PRODID:-//ChamberMaster//Event Calendar 2.0//EN
METHOD:PUBLISH
X-PUBLISHED-TTL:P3D
REFRESH-INTERVAL:P3D
CALSCALE:GREGORIAN
BEGIN:VEVENT
DTSTART:20230720T203000Z
DTEND:20230720T220000Z
X-MICROSOFT-CDO-ALLDAYEVENT:FALSE
SUMMARY:Project Outreach Session: Hartsfield-Jackson Atlanta International Airport
DESCRIPTION:The Joint Venture Partnership Holder\, Moody\, Bryson\, and Sovereign Construction & Development are conducting an in-person informational session for the Concourse D Widening Project at the Hartsfield-Jackson Atlanta International Airport. This project will increase the overall building footprint by widening the existing concourse from 60 feet to 102 feet. It will also extend the existing concourse to the north and south\, increasing the overall length of the concourse by approximately 145 feet.\n					\n				\n			\n\n			 \n			\n		\n	\n\n\n \n\n \n\n\n	\n		\n			\n			\n				\n					\n						Upcoming project opportunities for the following scopes of work:\n\n						 \n\n						Masonry\n\n						Misc. Steel\n\n						Fire Protection\n\n						Spray Insulation & Fireproofing\n\n						Drywall/Ceilings\n\n						Waterproofing\n\n						Doors/Frames/Hardware
X-ALT-DESC;FMTTYPE=text/html:<table align="center" border="0" cellpadding="0" cellspacing="0" style="color: rgb(34\, 34\, 34)\; font-family: Arial\, Helvetica\, sans-serif\; font-size: small\; background-color: rgb(255\, 255\, 255)\; width: 620px\;" width="100%">\n	<tbody>\n		<tr>\n			<td style="margin: 0px\; width: 620px\; padding: 0in\; vertical-align: top\;">\n			<table align="center" border="0" cellpadding="0" cellspacing="0" style="width: 620px\;" width="100%">\n				<tbody>\n					<tr>\n						<td style="margin: 0px\; padding: 7.5pt 15pt\; vertical-align: top\; text-align: center\;"><span style="font-family: &quot\;century gothic&quot\;\, sans-serif\;"><span style="font-size: 10.5pt\;">The Joint Venture Partnership Holder\, Moody\, Bryson\, and Sovereign Construction &amp\; Development are conducting an in-person informational session for the Concourse D Widening Project at the Hartsfield-Jackson Atlanta International Airport. This project will increase the overall building footprint by widening the existing concourse from 60 feet to 102 feet.&nbsp\;It will also extend the existing concourse to the north and south\, increasing the overall length of the concourse by approximately 145 feet.</span></span></td>\n					</tr>\n				</tbody>\n			</table>\n\n			<div style="clear: both\; text-align: center\;">&nbsp\;</div>\n			</td>\n		</tr>\n	</tbody>\n</table>\n\n<div style="color: rgb(34\, 34\, 34)\; font-family: Arial\, Helvetica\, sans-serif\; font-size: small\; background-color: rgb(255\, 255\, 255)\; clear: both\; text-align: center\;">&nbsp\;</div>\n\n<div style="color: rgb(34\, 34\, 34)\; font-family: Arial\, Helvetica\, sans-serif\; font-size: small\; background-color: rgb(255\, 255\, 255)\; text-align: center\;">&nbsp\;</div>\n\n<table align="center" border="0" cellpadding="0" cellspacing="0" style="color: rgb(34\, 34\, 34)\; font-family: Arial\, Helvetica\, sans-serif\; font-size: small\; background-color: rgb(255\, 255\, 255)\; width: 620px\;" width="100%">\n	<tbody>\n		<tr>\n			<td style="margin: 0px\; width: 620px\; padding: 0in\; vertical-align: top\;">\n			<table align="center" border="0" cellpadding="0" cellspacing="0" style="width: 620px\;" width="100%">\n				<tbody>\n					<tr>\n						<td style="margin: 0px\; padding: 7.5pt 15pt\; vertical-align: top\; text-align: center\;"><em><span style="color: rgb(1\, 0\, 0)\;"><span style="font-family: &quot\;century gothic&quot\;\, sans-serif\;"><span style="font-size: 9pt\;">Upcoming project opportunities for the following scopes of work:</span></span></span></em><br />\n						&nbsp\;<br />\n						<em><span style="color: rgb(1\, 0\, 0)\;"><span style="font-family: &quot\;century gothic&quot\;\, sans-serif\;"><span style="font-size: 10.5pt\;">Masonry</span></span></span></em><br />\n						<em><span style="color: rgb(1\, 0\, 0)\;"><span style="font-family: &quot\;century gothic&quot\;\, sans-serif\;"><span style="font-size: 10.5pt\;">Misc. Steel</span></span></span></em><br />\n						<span style="color: rgb(1\, 0\, 0)\;"><span style="font-family: &quot\;century gothic&quot\;\, sans-serif\;"><span style="font-size: 10.5pt\;">Fire Protection</span></span></span><br />\n						<span style="color: rgb(1\, 0\, 0)\;"><span style="font-family: &quot\;century gothic&quot\;\, sans-serif\;"><span style="font-size: 10.5pt\;">Spray Insulation &amp\; Fireproofing</span></span></span><br />\n						<span style="color: rgb(1\, 0\, 0)\;"><span style="font-family: &quot\;century gothic&quot\;\, sans-serif\;"><span style="font-size: 10.5pt\;">Drywall/Ceilings</span></span></span><br />\n						<span style="color: rgb(1\, 0\, 0)\;"><span style="font-family: &quot\;century gothic&quot\;\, sans-serif\;"><span style="font-size: 10.5pt\;">Waterproofing</span></span></span><br />\n						<span style="color: rgb(1\, 0\, 0)\;"><span style="font-family: &quot\;century gothic&quot\;\, sans-serif\;"><span style="font-size: 10.5pt\;">Doors/Frames/Hardware</span></span></span></td>\n					</tr>\n				</tbody>\n			</table>\n			</td>\n		</tr>\n	</tbody>\n</table>\n
LOCATION:Department of Aviation Technical Campus 1255 South Loop Road\, College Park\, Georgia 30327
UID:e.9342.1746
SEQUENCE:3
DTSTAMP:20260421T010659Z
URL:http://georgiahcaga.memberzone.com/events/details/project-outreach-session-hartsfield-jackson-atlanta-international-airport-1746
END:VEVENT

END:VCALENDAR
