BEGIN:VCALENDAR
VERSION:2.0
PRODID:-//ChamberMaster//Event Calendar 2.0//EN
METHOD:PUBLISH
X-PUBLISHED-TTL:P3D
REFRESH-INTERVAL:P3D
CALSCALE:GREGORIAN
BEGIN:VEVENT
DTSTART:20210323T140000Z
DTEND:20210323T163000Z
X-MICROSOFT-CDO-ALLDAYEVENT:FALSE
SUMMARY:Section 3 Training Session
DESCRIPTION:The GHCA and The Atlanta Housing Authority would like to invite all members to participate in the Section 3 Training Session this coming Tuesday March 23\, 2021 from 10:00 am to 12:30 pm.\n\n \n\nVisit this link to register for this important event.\n\n\n\nREGISTER HERE\n\n \nSection 3 is part of an act of Congress regulated by the Federal Department of Housing and Urban Development (HUD) that helps foster local economic development\, economic improvement communities and the self-sufficiency of people.\n\n \n\nSection 3 requires that entities that receive certain types of HUD funding provide job\n\ntraining\, employment\, and hiring opportunities to low-income residents\, and to businesses that\n\nprovide economic opportunities to such populations\, to the maximum extent possible.\n\n \n\nHundreds of millions of dollars a year are subject to compliance with Section 3\, including disaster recovery funds.
X-ALT-DESC;FMTTYPE=text/html:<div style="color: rgb(34\, 34\, 34)\; font-family: Arial\, Helvetica\, sans-serif\; font-size: small\;"><span style="font-size:16px\;">The GHCA and The Atlanta Housing Authority would like to invite all members to participate in the Section 3 Training Session this coming Tuesday March 23\, 2021 from 10:00 am to 12:30 pm.</span></div>\n\n<div style="color: rgb(34\, 34\, 34)\; font-family: Arial\, Helvetica\, sans-serif\; font-size: small\;">&nbsp\;</div>\n\n<div style="color: rgb(34\, 34\, 34)\; font-family: Arial\, Helvetica\, sans-serif\; font-size: small\;"><span style="font-size:16px\;">Visit this link to register for this important event.<br />\n<br />\n<strong><a href="http://https://www.eventbrite.com/e/hud-southeast-region-iv-section-3-training-for-businesses-and-residents-registration-134776814079">REGISTER HERE</a></strong></span><br />\n&nbsp\;\n<div style="color: rgb(34\, 34\, 34)\; font-family: Arial\, Helvetica\, sans-serif\; font-size: small\;"><span style="font-size:16px\;">Section 3 is part of an act of Congress regulated by the Federal Department of Housing and Urban Development (HUD) that helps foster local economic development\, economic improvement communities and the self-sufficiency of people.</span></div>\n\n<div style="color: rgb(34\, 34\, 34)\; font-family: Arial\, Helvetica\, sans-serif\; font-size: small\;">&nbsp\;</div>\n\n<div style="color: rgb(34\, 34\, 34)\; font-family: Arial\, Helvetica\, sans-serif\; font-size: small\;"><span style="font-size:16px\;">Section 3 requires that entities that receive certain types of HUD funding provide job</span></div>\n\n<div style="color: rgb(34\, 34\, 34)\; font-family: Arial\, Helvetica\, sans-serif\; font-size: small\;"><span style="font-size:16px\;">training\, employment\, and hiring opportunities to low-income residents\, and to businesses that</span></div>\n\n<div style="color: rgb(34\, 34\, 34)\; font-family: Arial\, Helvetica\, sans-serif\; font-size: small\;"><span style="font-size:16px\;">provide economic opportunities to such populations\, to the maximum extent possible.</span></div>\n\n<div style="color: rgb(34\, 34\, 34)\; font-family: Arial\, Helvetica\, sans-serif\; font-size: small\;">&nbsp\;</div>\n\n<div style="color: rgb(34\, 34\, 34)\; font-family: Arial\, Helvetica\, sans-serif\; font-size: small\;"><span style="font-size:16px\;">Hundreds of millions of dollars a year are subject to compliance with Section 3\, including disaster recovery funds.</span></div>\n</div>\n
LOCATION:REGISTER HERE
UID:e.9342.1586
SEQUENCE:3
DTSTAMP:20260423T080628Z
URL:http://georgiahcaga.memberzone.com/events/details/section-3-training-session-1586
END:VEVENT

END:VCALENDAR
