BEGIN:VCALENDAR
VERSION:2.0
PRODID:-//ChamberMaster//Event Calendar 2.0//EN
METHOD:PUBLISH
X-PUBLISHED-TTL:P3D
REFRESH-INTERVAL:P3D
CALSCALE:GREGORIAN
BEGIN:VEVENT
DTSTART:20200413T183000Z
DTEND:20200413T191500Z
X-MICROSOFT-CDO-ALLDAYEVENT:FALSE
SUMMARY:SEGURIDAD en la Construcción Durante la Pandemia COVID-19 ~ FACEBOOK LIVE ~
DESCRIPTION:Acomp  enos el Lunes 13 de Abril a las 2:30 pm en un Facebook live donde estar  V ctor Salda a\, Senior Manager y entrenador de seguridad en Brasfield & Gorrie para hablar de la normativa y las pr cticas de seguridad con el fin de afrontar la crisis del COVID-19.\n\n\n\nV ctor administra e implementa pol ticas y procedimientos de seguridad\, inspecci n de sitios de trabajo\, cumplimiento de leyes federales\, estatales y locales y entrena en temas esenciales desde CPR a OSHA 10 & 30 en ingles y espa ol. \n\nV ctor usa su experiencia para que la seguridad sea un tema prioritario en las compa  as de construcci n. Actualmente es el Chair del Comit  de Seguridad de la Asociaci n Hispana de Construcci n de Georgia y ha sido invitado por OSHA Training Center en Georgia Tech para participar en "Hispanics in Construction".
X-ALT-DESC;FMTTYPE=text/html:<span style="font-size:22px\;"><span style="caret-color: rgb(28\, 30\, 33)\; color: rgb(28\, 30\, 33)\; font-family: system-ui\, -apple-system\, BlinkMacSystemFont\, &quot\;.SFNSText-Regular&quot\;\, sans-serif\;">Acomp&aacute\;&ntilde\;enos el Lunes 13 de Abril a las 2:30 pm en un Facebook live donde estar&aacute\; V&iacute\;ctor Salda&ntilde\;a\, Senior Manager y entrenador de seguridad en Brasfield &amp\; Gorrie para hablar de la normativa y las pr&aacute\;cticas de seguridad con el fin de afrontar la crisis del COVID-19.</span><br style="caret-color: rgb(28\, 30\, 33)\; color: rgb(28\, 30\, 33)\; font-family: system-ui\, -apple-system\, BlinkMacSystemFont\, &quot\;.SFNSText-Regular&quot\;\, sans-serif\; font-size: 14px\;" />\n<br style="caret-color: rgb(28\, 30\, 33)\; color: rgb(28\, 30\, 33)\; font-family: system-ui\, -apple-system\, BlinkMacSystemFont\, &quot\;.SFNSText-Regular&quot\;\, sans-serif\; font-size: 14px\;" />\n<span style="caret-color: rgb(28\, 30\, 33)\; color: rgb(28\, 30\, 33)\; font-family: system-ui\, -apple-system\, BlinkMacSystemFont\, &quot\;.SFNSText-Regular&quot\;\, sans-serif\;">V&iacute\;ctor administra e implementa pol&iacute\;ticas y procedimientos de seguridad\, inspecci&oacute\;n de sitios de trabajo\, cumplimiento de leyes federales</span><span class="text_exposed_show" style="display: inline\; font-family: system-ui\, -apple-system\, BlinkMacSystemFont\, &quot\;.SFNSText-Regular&quot\;\, sans-serif\; caret-color: rgb(28\, 30\, 33)\; color: rgb(28\, 30\, 33)\;">\, estatales y locales y entrena en temas esenciales desde CPR a OSHA 10 &amp\; 30 en ingles y espa&ntilde\;ol.&nbsp\;<br />\nV&iacute\;ctor usa su experiencia para que la seguridad sea un tema prioritario en las compa&ntilde\;&iacute\;as de construcci&oacute\;n. Actualmente es el Chair del Comit&eacute\; de Seguridad de la Asociaci&oacute\;n Hispana de Construcci&oacute\;n de Georgia y ha sido invitado por OSHA Training Center en Georgia Tech para participar en &ldquo\;Hispanics in Construction&rdquo\;.</span></span>
LOCATION:A TRAV S DEL FACEBOOK DE LA ASOCIACI N @SOMOSGHCA
UID:e.9342.1506
SEQUENCE:3
DTSTAMP:20260424T163043Z
URL:http://georgiahcaga.memberzone.com/events/details/seguridad-en-la-construcci&#243;n-durante-la-pandemia-covid-19-facebook-live-1506
END:VEVENT

END:VCALENDAR
