BEGIN:VCALENDAR
VERSION:2.0
PRODID:-//ChamberMaster//Event Calendar 2.0//EN
METHOD:PUBLISH
X-PUBLISHED-TTL:P3D
REFRESH-INTERVAL:P3D
CALSCALE:GREGORIAN
BEGIN:VEVENT
DTSTART:20190725T143000Z
DTEND:20190725T170000Z
X-MICROSOFT-CDO-ALLDAYEVENT:FALSE
SUMMARY:Small Business Risk Education Workshop
DESCRIPTION:Learn safety and loss prevention strategies\, and develop a plan to address your business risks.\n\n\n\nTopics covered in this workshop:\n\n  Risk Transfer - Managing Business Relationships\n\n  Risk Management Basics\n\n  General Liability Risk \n\n  Property Risk & Business Continuity Plan
X-ALT-DESC;FMTTYPE=text/html:<span style="font-size:14px\;"><span id="docs-internal-guid-75a085e6-7fff-a519-2cc1-e9550dee55c6"><span style="color: rgb(79\, 76\, 77)\; background-color: transparent\; font-weight: 700\; font-variant-numeric: normal\; font-variant-east-asian: normal\; vertical-align: baseline\; white-space: pre-wrap\;">Learn safety and loss prevention strategies\, and develop a plan to address your business risks.</span></span></span><br />\n<br />\n<span style="font-size:12px\;"><span style="color:#000000\;"><span style="background-color: transparent\; font-family: Arial\; font-weight: 700\; white-space: pre-wrap\;">Topics covered in this workshop:</span></span></span><br />\n<span style="font-size:12px\;"><span style="background-color: transparent\; font-family: Arial\; color: rgb(79\, 76\, 77)\; font-variant-numeric: normal\; font-variant-east-asian: normal\; vertical-align: baseline\; white-space: pre-wrap\;">&bull\; Risk Transfer - Managing Business Relationships<br />\n&bull\; Risk Management Basics<br />\n<span style="background-color: transparent\; font-variant-numeric: normal\; font-variant-east-asian: normal\; vertical-align: baseline\;">&bull\; </span><span style="background-color: transparent\; font-variant-numeric: normal\; font-variant-east-asian: normal\; vertical-align: baseline\;">General Liability Risk </span></span><br />\n<span id="docs-internal-guid-125de620-7fff-0901-fc48-fef84a7a3017"><span style="font-family: Arial\; color: rgb(79\, 76\, 77)\; background-color: transparent\; font-variant-numeric: normal\; font-variant-east-asian: normal\; vertical-align: baseline\; white-space: pre-wrap\;">&bull\; </span><span style="font-family: Arial\; color: rgb(79\, 76\, 77)\; background-color: transparent\; font-variant-numeric: normal\; font-variant-east-asian: normal\; vertical-align: baseline\; white-space: pre-wrap\;">Property Risk &amp\; Business Continuity Plan</span></span></span>
LOCATION:Latin American Association Center 2750 Buford Highway NE\, Atlanta\, GA 30324 2nd Floor
UID:e.9342.1384
SEQUENCE:3
DTSTAMP:20260425T113309Z
URL:http://georgiahcaga.memberzone.com/events/details/small-business-risk-education-workshop-1384
END:VEVENT

END:VCALENDAR
