BEGIN:VCALENDAR
VERSION:2.0
PRODID:-//ChamberMaster//Event Calendar 2.0//EN
METHOD:PUBLISH
X-PUBLISHED-TTL:P3D
REFRESH-INTERVAL:P3D
CALSCALE:GREGORIAN
BEGIN:VEVENT
DTSTART:20190611T130000Z
DTEND:20190611T210000Z
X-MICROSOFT-CDO-ALLDAYEVENT:FALSE
SUMMARY:Southface: Fundamentals of Building Science
DESCRIPTION:This course is designed to provide participants with a practical knowledge of basic building science principles. Students are introduced to the "house as a system" model for assessing and improving building performance\, as well as the fundamentals of heat\, air\, and moisture flow as it relates to buildings.\n\nThis training has been approved by BPI for 3.5 BPI Continuing Education Units.\n\nCourse Price: $300\n\nMember Price: $285 (Discount applied automatically)
X-ALT-DESC;FMTTYPE=text/html:<p style="box-sizing: border-box\; margin: 0px 0px 10px\; line-height: 1.7\; color: rgb(128\, 128\, 128)\; font-family: &quot\;Source Sans Pro&quot\;\, sans-serif\; font-size: 16px\;">This course is designed to provide participants with a practical knowledge of basic building science principles. Students are introduced to the &ldquo\;house as a system&rdquo\; model for assessing and improving building performance\, as well as the fundamentals of heat\, air\, and moisture flow as it relates to buildings.</p>\n\n<p style="box-sizing: border-box\; margin: 0px 0px 10px\; line-height: 1.7\; color: rgb(128\, 128\, 128)\; font-family: &quot\;Source Sans Pro&quot\;\, sans-serif\; font-size: 16px\;">This training has been approved by BPI for 3.5 BPI Continuing Education Units.</p>\n\n<p style="box-sizing: border-box\; margin: 0px 0px 10px\; line-height: 1.7\; color: rgb(128\, 128\, 128)\; font-family: &quot\;Source Sans Pro&quot\;\, sans-serif\; font-size: 16px\;">Course Price: $300<br style="box-sizing: border-box\;" />\nMember Price: $285 (Discount applied automatically)</p>\n
LOCATION:Southface SWEET Center 590 Piedmont Ave NE Atlanta\, GA 30308 United States
UID:e.9342.1375
SEQUENCE:3
DTSTAMP:20260425T113315Z
URL:http://georgiahcaga.memberzone.com/events/details/southface-fundamentals-of-building-science-1375
END:VEVENT

END:VCALENDAR
