BEGIN:VCALENDAR
VERSION:2.0
PRODID:-//ChamberMaster//Event Calendar 2.0//EN
METHOD:PUBLISH
X-PUBLISHED-TTL:P3D
REFRESH-INTERVAL:P3D
CALSCALE:GREGORIAN
BEGIN:VEVENT
DTSTART:20190610T120000Z
DTEND:20190610T170000Z
X-MICROSOFT-CDO-ALLDAYEVENT:FALSE
SUMMARY:Southface: Lead Safety for Renovation\, Repair and Painting (RRP) Refresher Training
DESCRIPTION:The Lead Safety RPP Refresher training course trains renovation\, repair\, and painting contractors how to work safely in housing with lead-based paint. Attendees will learn how to comply with EPA's Renovation\, Repair\, and Painting (RRP) Rule\, and HUD's Lead Safe Housing Rule. The Lead Safety RRP Refresher training course was developed by the EPA\, in collaboration with the U.S. Department of Housing and Urban Development (HUD). Those looking to re-certify must take this before their 3 year anniversary.\nLEARN\n\n\n\nAttendees learn how to properly work within the RRP rule on pre-1978 housing and child occupied facilitates that have tested positive for lead based paint.\n\n\nEARN\n\n\n\nBy passing the 25-question multiple choice test\, attendees will be given a new certificate of completion that is required when applying to conduct business in the State of Georgia.\n\n\nTRAINING INCLUDES\n\n\n\n\n	7 classroom modules\n	Training materials and exam\n	Hands-on skills assessment\n	Review of the RRP rule\n	25-question multiple choice test\n	Certificate of course completion\n	Continental breakfast\n	Free Parking\n\n\nPREREQUISITES\n\n\n\nYou must provide proof of your initial certification by bringing your RRP Initial Certification Certificate with you or proof that you completed the full 8-hour course. (Initial certification of Southface trained students are held on file. Please contact courses@southface.org to verify.) Some residential construction background is strongly recommended.
X-ALT-DESC;FMTTYPE=text/html:<span style="color: rgb(43\, 43\, 43)\; font-family: &quot\;Source Sans Pro&quot\;\, sans-serif\; font-size: 16px\;">The Lead Safety RPP Refresher training course trains renovation\, repair\, and painting contractors how to work safely in housing with lead-based paint. Attendees will learn how to comply with EPA&rsquo\;s Renovation\, Repair\, and Painting (RRP) Rule\, and HUD&rsquo\;s Lead Safe Housing Rule. The Lead Safety RRP Refresher training course was developed by the EPA\, in collaboration with the U.S. Department of Housing and Urban Development (HUD). Those looking to re-certify must take this before their 3 year anniversary.</span>\n<h4 style="box-sizing: border-box\; font-family: Montserrat\, sans-serif\; font-weight: 700\; line-height: 1.8\; margin: 24px 0px\; font-size: 14px\;"><span style="box-sizing: border-box\; color: rgb(0\, 116\, 129)\; font-size: 20px\;">LEARN</span></h4>\n\n<hr align="left" style="box-sizing: content-box\; height: 0px\; margin-top: 20px\; margin-bottom: 20px\; border-right: 1px solid rgb(0\, 0\, 0)\; border-bottom: 1px solid rgb(0\, 0\, 0)\; border-left: 1px solid rgb(0\, 0\, 0)\; border-top-color: rgb(0\, 0\, 0)\; color: rgb(43\, 43\, 43)\; font-family: &quot\;Source Sans Pro&quot\;\, sans-serif\; font-size: 16px\;" width="4%" />\n<div style="box-sizing: border-box\; color: rgb(43\, 43\, 43)\; font-family: &quot\;Source Sans Pro&quot\;\, sans-serif\; font-size: 16px\;">\n<p style="box-sizing: border-box\; margin: 0px 0px 10px\; line-height: 1.7\;">Attendees learn how to properly work within the RRP rule on pre-1978 housing and child occupied facilitates that have tested positive for lead based paint.</p>\n</div>\n\n<h4 style="box-sizing: border-box\; font-family: Montserrat\, sans-serif\; font-weight: 700\; line-height: 1.8\; margin: 24px 0px\; font-size: 14px\;"><span style="box-sizing: border-box\; color: rgb(0\, 116\, 129)\; font-size: 20px\;">EARN</span></h4>\n\n<hr align="left" style="box-sizing: content-box\; height: 0px\; margin-top: 20px\; margin-bottom: 20px\; border-right: 1px solid rgb(0\, 0\, 0)\; border-bottom: 1px solid rgb(0\, 0\, 0)\; border-left: 1px solid rgb(0\, 0\, 0)\; border-top-color: rgb(0\, 0\, 0)\; color: rgb(43\, 43\, 43)\; font-family: &quot\;Source Sans Pro&quot\;\, sans-serif\; font-size: 16px\;" width="4%" />\n<div style="box-sizing: border-box\; color: rgb(43\, 43\, 43)\; font-family: &quot\;Source Sans Pro&quot\;\, sans-serif\; font-size: 16px\;">\n<p style="box-sizing: border-box\; margin: 0px 0px 10px\; line-height: 1.7\;">By passing the 25-question multiple choice test\, attendees will be given a new certificate of completion that is required when applying to conduct business in the State of Georgia.</p>\n</div>\n\n<h4 style="box-sizing: border-box\; font-family: Montserrat\, sans-serif\; font-weight: 700\; line-height: 1.8\; margin: 24px 0px\; font-size: 14px\;"><span style="box-sizing: border-box\; color: rgb(0\, 116\, 129)\; font-size: 20px\;">TRAINING INCLUDES</span></h4>\n\n<hr align="left" style="box-sizing: content-box\; height: 0px\; margin-top: 20px\; margin-bottom: 20px\; border-right: 1px solid rgb(0\, 0\, 0)\; border-bottom: 1px solid rgb(0\, 0\, 0)\; border-left: 1px solid rgb(0\, 0\, 0)\; border-top-color: rgb(0\, 0\, 0)\; color: rgb(43\, 43\, 43)\; font-family: &quot\;Source Sans Pro&quot\;\, sans-serif\; font-size: 16px\;" width="4%" />\n<div style="box-sizing: border-box\; color: rgb(43\, 43\, 43)\; font-family: &quot\;Source Sans Pro&quot\;\, sans-serif\; font-size: 16px\;">\n<ul style="box-sizing: border-box\; margin-top: 0px\; margin-bottom: 10px\; list-style-position: outside\; list-style-image: initial\;">\n	<li style="box-sizing: border-box\; line-height: 1.7\; margin: 0px 0px 20px\;">7 classroom modules</li>\n	<li style="box-sizing: border-box\; line-height: 1.7\; margin: 0px 0px 20px\;">Training materials and exam</li>\n	<li style="box-sizing: border-box\; line-height: 1.7\; margin: 0px 0px 20px\;">Hands-on skills assessment</li>\n	<li style="box-sizing: border-box\; line-height: 1.7\; margin: 0px 0px 20px\;">Review of the RRP rule</li>\n	<li style="box-sizing: border-box\; line-height: 1.7\; margin: 0px 0px 20px\;">25-question multiple choice test</li>\n	<li style="box-sizing: border-box\; line-height: 1.7\; margin: 0px 0px 20px\;">Certificate of course completion</li>\n	<li style="box-sizing: border-box\; line-height: 1.7\; margin: 0px 0px 20px\;">Continental breakfast</li>\n	<li style="box-sizing: border-box\; line-height: 1.7\; margin: 0px 0px 20px\;">Free Parking</li>\n</ul>\n\n<h4 style="box-sizing: border-box\; font-family: Montserrat\, sans-serif\; font-weight: 700\; line-height: 1.8\; color: rgb(51\, 51\, 51)\; margin: 24px 0px\; font-size: 14px\; letter-spacing: 0px\;"><span style="box-sizing: border-box\; color: rgb(0\, 116\, 129)\; font-size: 20px\;">PREREQUISITES</span></h4>\n\n<hr align="left" style="box-sizing: content-box\; height: 0px\; margin-top: 20px\; margin-bottom: 20px\; border-right: 1px solid rgb(0\, 0\, 0)\; border-bottom: 1px solid rgb(0\, 0\, 0)\; border-left: 1px solid rgb(0\, 0\, 0)\; border-top-color: rgb(0\, 0\, 0)\;" width="4%" />\n<div style="box-sizing: border-box\;">\n<p style="box-sizing: border-box\; margin: 0px 0px 10px\; line-height: 1.7\;">You must provide proof of your initial certification by bringing your RRP Initial Certification Certificate with you or proof that you completed the full 8-hour course. (Initial certification of Southface trained students are held on file. Please contact courses@southface.org to verify.) Some residential construction background is strongly recommended.</p>\n</div>\n</div>\n
LOCATION:Southface SWEET Center 590 Piedmont Ave NE Atlanta\, GA 30308 United States
UID:e.9342.1374
SEQUENCE:3
DTSTAMP:20260425T113507Z
URL:http://georgiahcaga.memberzone.com/events/details/southface-lead-safety-for-renovation-repair-and-painting-rrp-refresher-training-1374
END:VEVENT

END:VCALENDAR
