BEGIN:VCALENDAR
VERSION:2.0
PRODID:-//ChamberMaster//Event Calendar 2.0//EN
METHOD:PUBLISH
X-PUBLISHED-TTL:P3D
REFRESH-INTERVAL:P3D
CALSCALE:GREGORIAN
BEGIN:VEVENT
DTSTART:20200506T154500Z
DTEND:20200506T170000Z
X-MICROSOFT-CDO-ALLDAYEVENT:FALSE
SUMMARY:Staying Financially Healthy during the Coronavirus Pandemic Webinar
DESCRIPTION:Join the next National Hispanic Construction Association's webinar:\n\nStaying Financially Healthy during the Coronavirus Pandemic \n\nAgenda:\n\n- Cash Alternatives  (PPP Loans\, EIDL Loans\, State Grants and Loans) \n\n- CARES Act Provisions\n\n- Tax Return Issues\n\n- Contract Review\n\n- Business Practices
X-ALT-DESC;FMTTYPE=text/html:<div style="caret-color: rgb(34\, 34\, 34)\; color: rgb(34\, 34\, 34)\; font-family: Arial\; font-size: 13.333333015441895px\;">\n<h2><span style="font-size: 16px\;"><span style="font-size:18px\;">Join the next&nbsp\;<em>National Hispanic Construction Association&#39\;s webinar:</em></span></span></h2>\n\n<h2><span style="font-size: 16px\;"><strong><a data-saferedirecturl="https://www.google.com/url?q=https://us02web.zoom.us/webinar/register/WN__5eC6-P7QqSGnKor_oDjhQ&amp\;source=gmail&amp\;ust=1588777616674000&amp\;usg=AFQjCNFdU9BtNCVCJcyIrnO3p35-V1z3gQ" href="https://us02web.zoom.us/webinar/register/WN__5eC6-P7QqSGnKor_oDjhQ" style="color: rgb(17\, 85\, 204)\;"><span style="color: rgb(0\, 0\, 128)\;">Staying Financially Healthy during the Coronavirus Pandemic&nbsp\;</span></a></strong></span></h2>\n\n<h2><span style="font-size: 16px\;"><strong>Agenda:</strong><br />\n- Cash Alternatives &nbsp\;(PPP Loans\, EIDL Loans\, State Grants and Loans)&nbsp\;<br />\n- CARES Act Provisions<br />\n- Tax Return Issues<br />\n- Contract Review<br />\n- Business Practices</span></h2>\n</div>\n\n<div style="caret-color: rgb(34\, 34\, 34)\; color: rgb(34\, 34\, 34)\; font-family: Arial\; font-size: 13.333333015441895px\;">&nbsp\;</div>\n\n<div style="caret-color: rgb(34\, 34\, 34)\; color: rgb(34\, 34\, 34)\; font-family: Arial\; font-size: 13.333333015441895px\;">&nbsp\;</div>\n
LOCATION:
UID:e.9342.1511
SEQUENCE:3
DTSTAMP:20260424T151442Z
URL:http://georgiahcaga.memberzone.com/events/details/staying-financially-healthy-during-the-coronavirus-pandemic-webinar-1511
END:VEVENT

END:VCALENDAR
