BEGIN:VCALENDAR
VERSION:2.0
PRODID:-//ChamberMaster//Event Calendar 2.0//EN
METHOD:PUBLISH
X-PUBLISHED-TTL:P3D
REFRESH-INTERVAL:P3D
CALSCALE:GREGORIAN
BEGIN:VEVENT
DTSTART:20240302T130000Z
DTEND:20240302T180000Z
X-MICROSOFT-CDO-ALLDAYEVENT:FALSE
SUMMARY:STEP- Programa de entrenamiento en seguridad ocupacional/ Sesión 1
DESCRIPTION:STEP (Programa de entrenamiento en seguridad ocupacional) est  de vuelta\, redise ado y con la novedad de contar con una plataforma digital que te permitir  incorporar\, en tiempo real\, informaci n relevante para dise ar un manual b sico de seguridad adaptado a las necesidades de tu negocio. As  podr s proteger no solamente a tu empresa sino a su principal capital: tus trabajadores\, mientras te conviertes en una opci n mucho m s atractiva ante tus clientes. Adem s\, es importante que conozcas el impacto que significa tener un plan de seguridad\, cuando hablamos de costos de seguros para tu empresa.\n\nAl completar tu manual de seguridad tendr s la oportunidad de una consulta con el equipo de Gilbane Building Company\, donde podr s aclarar dudas\, agregar sugerencias y conocer m s de cerca lo que contratistas generales de su talla requieren. \n\n\n\nUn evento patrocinado por: Fulcro Insurance - Rays Stairs - C&C Signs - Gilbane - White Cap\n\nCon el apoyo de: HOLDER - Brasfield & Gorrie   IAICB
X-ALT-DESC;FMTTYPE=text/html:<strong><span style="color:black\;"><span style="font-family:tahoma\,sans-serif\;"><span style="font-size:16.5pt\;">STEP (Programa de entrenamiento en seguridad ocupacional)</span></span></span></strong><span style="color:black\;"><span style="font-family:tahoma\,sans-serif\;"><span style="font-size:16.5pt\;">&nbsp\;est&aacute\; de vuelta\, redise&ntilde\;ado y con la novedad de contar con una plataforma digital que te permitir&aacute\; incorporar\, en tiempo real\, informaci&oacute\;n relevante para dise&ntilde\;ar un manual b&aacute\;sico de seguridad adaptado a las necesidades de tu negocio. As&iacute\; podr&aacute\;s proteger no solamente a tu empresa sino a su principal capital: tus trabajadores\, mientras te conviertes en una opci&oacute\;n mucho m&aacute\;s atractiva ante tus clientes. Adem&aacute\;s\, es importante que conozcas el impacto que significa tener un plan de seguridad\, cuando hablamos de costos de seguros para tu empresa.<br />\nAl completar tu manual de seguridad tendr&aacute\;s la oportunidad de una consulta con el equipo de Gilbane Building Company\, donde podr&aacute\;s aclarar dudas\, agregar sugerencias y conocer m&aacute\;s de cerca lo que contratistas generales de su talla requieren.&nbsp\;<br />\n<br />\nUn evento patrocinado por: Fulcro Insurance - Rays Stairs - C&amp\;C Signs - Gilbane&nbsp\;</span></span></span><span style="color: rgb(0\, 0\, 0)\; font-family: tahoma\; font-size: 22px\;">- White Cap</span><br />\n<span style="color:black\;"><span style="font-family:tahoma\,sans-serif\;"><span style="font-size:16.5pt\;">Con el apoyo de: HOLDER - Brasfield &amp\; Gorrie &ndash\; IAICB</span></span></span>
LOCATION:S bado2 de marzo / Sesi n 1 Lugar: Sede de Holder 3300 Riverwood Pkwy\, Suite 1200\, Atlanta\, GA\, 30339 S bado 9 de marzo / Sesi n 2 Lugar: Sede de Brasfield & Gorrie 2999 Circle 75 Parkway\, Atlanta\, GA\, 30339
UID:e.9342.1784
SEQUENCE:3
DTSTAMP:20260420T022908Z
URL:http://georgiahcaga.memberzone.com/events/details/step-programa-de-entrenamiento-en-seguridad-ocupacional-sesi&#243;n-1-1784
END:VEVENT

END:VCALENDAR
