BEGIN:VCALENDAR
VERSION:2.0
PRODID:-//ChamberMaster//Event Calendar 2.0//EN
METHOD:PUBLISH
X-PUBLISHED-TTL:P3D
REFRESH-INTERVAL:P3D
CALSCALE:GREGORIAN
BEGIN:VEVENT
DTSTART:20230325T120000Z
DTEND:20230325T170000Z
X-MICROSOFT-CDO-ALLDAYEVENT:FALSE
SUMMARY:STEP- Programa de entrenamiento en seguridad ocupacional/ Sesión 2
DESCRIPTION:El programa bandera de la Georgia Hispanic Construction Association en materia de seguridad ocupacional regresa en 2023!  No puedes perd rtelo!\n\nSTEP (Programa de entrenamiento en seguridad ocupacional) est  de vuelta\, redise ado y con la novedad de contar con una plataforma digital que te permitir  incorporar\, en tiempo real\, informaci n relevante para dise ar un manual b sico de seguridad adaptado a las necesidades de tu negocio. As  podr s proteger no solamente a tu empresa sino a su principal capital: tus trabajadores\, mientras te conviertes en una opci n mucho m s atractiva ante tus clientes.\n\nTendremos a tres instructores de lujo: Marcial M rquez\, consultor s nior de seguridad y entrenador de Inter-American Inspection & Certification Bureau\, Jorge Cisneros\, director de seguridad corporativa de Holder Construction Company y Victor Salda a- Entrenador de seguridad corporativa de Brasfield & Gorrie.\n\nEsta actividad es patrocinada por White Cap\, Yancey\, Dewalt y GA811.\n\n \n\n Qu  aprender s en STEP?\n\nNuestro programa est  dividido en dos sesiones interactivas\, dictadas completamente en espa ol\, cuyo producto final ser  un manual b sico de seguridad adaptado a las necesidades de cada empresa y acorde con los requerimientos OSHA.  Cada sesi n est  integrada por dos m dulos a trav s de los cuales los instructores abordar n tem ticas como identificaci n y evaluaci n de peligros\, prevenci n y control de peligros\, informaci n y capacitaci n y evaluaci n y mejora del programa\, entre otros. Asimismo\, al final del curso se entregar  un certificado de participaci n a quienes hayan asistido a ambas sesiones y cumplido los requisitos de elaboraci n del manual de seguridad.\n\n \n\n Qui nes pueden participar en STEP?\n\nSi eres propietario de negocios\, gerencias una compa  a o est s a cargo del departamento de seguridad de empresas en el sector de la construcci n\, este es un programa para ti. La seguridad laboral es una prioridad para GHCA y nuestro objetivo es ayudar a que tu empresa sea exitosa y crezca sin comprometer la seguridad de sus empleados dentro de su ambiente laboral o incurrir en costos generados por accidentes o sanciones. En STEP te ayudaremos a identificar de manera m s efectiva los riesgos laborales\, comunicar eficazmente estos conocimientos y pr cticas a los empleados y obtener herramientas que te permitan evaluar c mo est n ejecutando ese plan.\n\n**Los asistentes deber n traer consigo una laptop para trabajar en una plataforma digital creada especialmente para este curso.**
X-ALT-DESC;FMTTYPE=text/html:<font color="#000000" face="tahoma"><span style="font-size: 22px\;">&iexcl\;El programa bandera de la&nbsp\;</span></font><strong style="color: rgb(0\, 0\, 0)\; font-family: tahoma\; font-size: 22px\;"><em>Georgia Hispanic Construction Association</em></strong><font color="#000000" face="tahoma"><span style="font-size: 22px\;">&nbsp\;en materia de seguridad ocupacional regresa en 2023! &iexcl\;No puedes perd&eacute\;rtelo!</span></font><br />\n<strong style="color: rgb(0\, 0\, 0)\; font-family: tahoma\; font-size: 22px\;">STEP (Programa de entrenamiento en seguridad ocupacional)</strong><font color="#000000" face="tahoma"><span style="font-size: 22px\;">&nbsp\;est&aacute\; de vuelta\, redise&ntilde\;ado y con la novedad de contar con una plataforma digital que te permitir&aacute\; incorporar\, en tiempo real\, informaci&oacute\;n relevante para dise&ntilde\;ar un manual b&aacute\;sico de seguridad adaptado a las necesidades de tu negocio. As&iacute\; podr&aacute\;s proteger no solamente a tu empresa sino a su principal capital: tus trabajadores\, mientras te conviertes en una opci&oacute\;n mucho m&aacute\;s atractiva ante tus clientes.</span></font><br />\n<font color="#000000" face="tahoma"><span style="font-size: 22px\;">Tendremos a tres instructores de lujo:&nbsp\;</span></font><strong style="color: rgb(0\, 0\, 0)\; font-family: tahoma\; font-size: 22px\;">Marcial M&aacute\;rquez</strong><span style="background-image: initial\; background-position: initial\; background-size: initial\; background-repeat: initial\; background-attachment: initial\; background-origin: initial\; background-clip: initial\; color: rgb(0\, 0\, 0)\; font-family: tahoma\; font-size: 22px\;">\, consultor s&eacute\;nior de seguridad y entrenador de&nbsp\;<em>Inter-American Inspection &amp\; Certification Bureau</em>\,&nbsp\;<strong>Jorge Cisneros</strong>\, director de seguridad corporativa de&nbsp\;<em>Holder Construction Company</em>&nbsp\;y&nbsp\;<strong>Victor Salda&ntilde\;a</strong>- Entrenador de seguridad corporativa de&nbsp\;<em>Brasfield &amp\; Gorrie</em>.</span><br />\n<span style="background-image: initial\; background-position: initial\; background-size: initial\; background-repeat: initial\; background-attachment: initial\; background-origin: initial\; background-clip: initial\;"><font color="#000000" face="tahoma"><span style="font-size: 22px\;">Esta actividad es patrocinada&nbsp\;por&nbsp\;<strong><em>White</em></strong></span></font><i style="color: rgb(0\, 0\, 0)\; font-family: tahoma\; font-size: 22px\; font-weight: bold\;">&nbsp\;Cap\, Yancey\, Dewalt</i><font color="#000000" face="tahoma"><span style="font-size: 22px\;">&nbsp\;y&nbsp\;</span></font><strong style="color: rgb(0\, 0\, 0)\; font-family: tahoma\; font-size: 22px\;"><em>GA811</em></strong><font color="#000000" face="tahoma"><span style="font-size: 22px\;">.</span></font></span><br />\n<font color="#000000" face="tahoma"><span style="font-size: 22px\;">&nbsp\;</span></font><br />\n<span style="background-image: initial\; background-position: initial\; background-size: initial\; background-repeat: initial\; background-attachment: initial\; background-origin: initial\; background-clip: initial\; color: rgb(0\, 0\, 0)\; font-family: tahoma\; font-size: 22px\;">&iquest\;Qu&eacute\; aprender&aacute\;s en&nbsp\;<strong>STEP</strong>?</span><br />\n<span style="background-image: initial\; background-position: initial\; background-size: initial\; background-repeat: initial\; background-attachment: initial\; background-origin: initial\; background-clip: initial\; color: rgb(0\, 0\, 0)\; font-family: tahoma\; font-size: 22px\;">Nuestro programa est&aacute\; dividido en dos sesiones interactivas\, dictadas completamente en espa&ntilde\;ol\, cuyo producto final ser&aacute\; un manual b&aacute\;sico de seguridad adaptado a las necesidades de cada empresa y acorde con los requerimientos OSHA.&nbsp\; Cada sesi&oacute\;n est&aacute\; integrada por dos m&oacute\;dulos a trav&eacute\;s de los cuales los instructores abordar&aacute\;n tem&aacute\;ticas como&nbsp\;</span><font color="#000000" face="tahoma"><span style="font-size: 22px\;">identificaci&oacute\;n y evaluaci&oacute\;n de peligros\, prevenci&oacute\;n y control de peligros\, informaci&oacute\;n y capacitaci&oacute\;n y evaluaci&oacute\;n y mejora del programa\, entre otros. Asimismo\, al final del curso se entregar&aacute\; un certificado de participaci&oacute\;n a quienes hayan asistido a ambas sesiones y cumplido los requisitos de elaboraci&oacute\;n del manual de seguridad.</span></font><br />\n<span style="font-size: 24px\;"><span style="font-family: tahoma\;"><span style="color: rgb(0\, 0\, 0)\;">&nbsp\;<br />\n<span style="font-size: 22px\;">&iquest\;</span></span></span></span><font color="#000000" face="tahoma"><span style="font-size: 22px\;">Qui&eacute\;nes pueden participar en&nbsp\;</span></font><strong style="color: rgb(0\, 0\, 0)\; font-family: tahoma\; font-size: 22px\;">STEP</strong><font color="#000000" face="tahoma"><span style="font-size: 22px\;">?</span></font><br />\n<font color="#000000" face="tahoma"><span style="font-size: 22px\;">Si eres propietario de negocios\, gerencias una compa&ntilde\;&iacute\;a o est&aacute\;s a cargo del departamento de seguridad de empresas en el sector de la construcci&oacute\;n\, este es un programa para ti. La seguridad laboral es una prioridad para GHCA y nuestro objetivo es ayudar a que tu empresa sea exitosa y crezca sin comprometer la seguridad de sus empleados dentro de su ambiente laboral o incurrir en costos generados por accidentes o sanciones. En STEP te ayudaremos a identificar de manera m&aacute\;s efectiva los riesgos laborales\, comunicar eficazmente estos conocimientos y pr&aacute\;cticas a los empleados y obtener herramientas que te permitan evaluar c&oacute\;mo est&aacute\;n ejecutando ese plan.</span></font><br />\n<em><strong><font color="#000000" face="tahoma"><span style="font-size: 22px\;">**Los asistentes deber&aacute\;n traer consigo una laptop para trabajar en una plataforma digital creada especialmente para este curso.**</span></font></strong></em>
LOCATION:Sede de White Cap 6250 Brook Hollow Pkwy\, suite 100\, Norcross\, GA\, 30071
UID:e.9342.1709
SEQUENCE:3
DTSTAMP:20260421T080357Z
URL:http://georgiahcaga.memberzone.com/events/details/step-programa-de-entrenamiento-en-seguridad-ocupacional-sesi&#243;n-2-1709
END:VEVENT

END:VCALENDAR
