BEGIN:VCALENDAR
VERSION:2.0
PRODID:-//ChamberMaster//Event Calendar 2.0//EN
METHOD:PUBLISH
X-PUBLISHED-TTL:P3D
REFRESH-INTERVAL:P3D
CALSCALE:GREGORIAN
BEGIN:VEVENT
DTSTART:20191106T210000Z
DTEND:20191106T233000Z
X-MICROSOFT-CDO-ALLDAYEVENT:FALSE
SUMMARY:Steps - Safety Program
DESCRIPTION:Su compa  a de construcci n necesita de un Plan de Seguridad y no sabe por d nde empezar?\n\n\n\nAcomp  enos a trav s de 3 sesiones\, donde expertos en el  rea de seguridad le ayudar n paso a paso a establecer un esquema de seguridad para su empresa\, lo cual le evitar  multas y m s importante\, proteger  la vida y bienestar de sus empleados.
X-ALT-DESC;FMTTYPE=text/html:Su compa&ntilde\;&iacute\;a de construcci&oacute\;n necesita de un <strong>Plan de Seguridad </strong>y no sabe por d&oacute\;nde empezar?<br />\n<br />\nAcomp&aacute\;&ntilde\;enos a trav&eacute\;s de 3 sesiones\, donde expertos en el &aacute\;rea de seguridad le ayudar&aacute\;n paso a paso a establecer un esquema de seguridad para su empresa\, lo cual le evitar&aacute\; multas y m&aacute\;s importante\, proteger&aacute\; la vida y bienestar de sus empleados.<br />\n<br />\n&nbsp\;
LOCATION:Merril Lynch 3455 Peachtree Rd NE Atlanta 11th Floor / Piso 11
UID:e.9342.1412
SEQUENCE:3
DTSTAMP:20260425T023921Z
URL:http://georgiahcaga.memberzone.com/events/details/steps-safety-program-part-1-11-06-2019-1412
END:VEVENT

END:VCALENDAR
