BEGIN:VCALENDAR
VERSION:2.0
PRODID:-//ChamberMaster//Event Calendar 2.0//EN
METHOD:PUBLISH
X-PUBLISHED-TTL:P3D
REFRESH-INTERVAL:P3D
CALSCALE:GREGORIAN
BEGIN:VEVENT
DTSTART:20230726T200000Z
DTEND:20230726T220000Z
X-MICROSOFT-CDO-ALLDAYEVENT:FALSE
SUMMARY:Subcontractor Outreach Event
DESCRIPTION:Juneau Construction is looking for qualified trade partners to work with on the expansion and renovation of the National Center for Civil and Human Rights building in beautiful downtown Atlanta.\n\n\n\nProject Scope:\n\nAdditional exhibit and meeting spaces\, cafe\, retail\, catering\, classrooms and existing facility improvements.\n\n\n\nProject Stats:\n\n6\,993 SF | east wing\n\n21\,780 SF | west wing\n\n$39M\n\n Registration: \n\nhttps://bit.ly/3O6mIVh
X-ALT-DESC;FMTTYPE=text/html:<span style="font-size:22px\;"><span style="font-family:tahoma\;"><span style="color:#000000\;"><span style="background-color: rgb(255\, 255\, 255)\;"><strong>Juneau Construction</strong> is looking for qualified trade partners to work with on the expansion and renovation of the <em>National Center for Civil and Human Rights</em> building in beautiful downtown Atlanta.</span><br />\n<br />\n<strong>Project Scope:</strong><br />\nAdditional exhibit and meeting spaces\, cafe\, retail\, catering\, classrooms and existing facility improvements.<br />\n<br />\n<strong>Project Stats:</strong><br />\n6\,993 SF | east wing<br />\n21\,780 SF | west wing<br />\n$39M<br />\n<strong>&nbsp\;Registration:&nbsp\;</strong></span></span></span><br />\n<span style="font-size:24px\;"><span style="font-family:tahoma\;"><span style="color:#000000\;">https://bit.ly/3O6mIVh</span></span></span><br />\n&nbsp\;
LOCATION:Juneau Construction Company Headquarters 210 Interstate North Pkwy SE\, Suite 700\, Atlanta\, GA 30339
UID:e.9342.1747
SEQUENCE:3
DTSTAMP:20260421T010027Z
URL:http://georgiahcaga.memberzone.com/events/details/subcontractor-outreach-event-1747
END:VEVENT

END:VCALENDAR
