BEGIN:VCALENDAR
VERSION:2.0
PRODID:-//ChamberMaster//Event Calendar 2.0//EN
METHOD:PUBLISH
X-PUBLISHED-TTL:P3D
REFRESH-INTERVAL:P3D
CALSCALE:GREGORIAN
BEGIN:VEVENT
DTSTART:20240515T200000Z
DTEND:20240515T220000Z
X-MICROSOFT-CDO-ALLDAYEVENT:FALSE
SUMMARY:Subcontractor Outreach Session | Microsoft CCO07
DESCRIPTION:Subcontractor Outreach Session |  Microsoft Data Center CCO07\n\nTurner Construction and H. J. Russell & Company invite you to join an informational session. This event will cover key topics related to the construction of the new Microsoft data center\, including the prequalification process\, JV organizational structure\, anticipated trade packages\, and other important details.
X-ALT-DESC;FMTTYPE=text/html:<span style="font-size:18px\;">Subcontractor Outreach Session |&nbsp\; Microsoft Data Center CCO07<br />\n<span style="color: rgb(13\, 13\, 13)\; white-space-collapse: preserve\;">Turner Construction and H. J. Russell &amp\; Company invite you to join an informational session. This event will cover key topics related to the construction of the new Microsoft data center\, including the prequalification process\, JV organizational structure\, anticipated trade packages\, and other important details.</span></span>
LOCATION:The Fountains | Building 12\, Suite 200 3495 Piedmont Road\, Atlanta\, GA 30304
UID:e.9342.1836
SEQUENCE:3
DTSTAMP:20260419T224358Z
URL:http://georgiahcaga.memberzone.com/events/details/subcontractor-outreach-session-microsoft-cco07-1836
END:VEVENT

END:VCALENDAR
