BEGIN:VCALENDAR
VERSION:2.0
PRODID:-//ChamberMaster//Event Calendar 2.0//EN
METHOD:PUBLISH
X-PUBLISHED-TTL:P3D
REFRESH-INTERVAL:P3D
CALSCALE:GREGORIAN
BEGIN:VEVENT
DTSTART:20230119T230000Z
DTEND:20230120T010000Z
X-MICROSOFT-CDO-ALLDAYEVENT:FALSE
SUMMARY:The Art & Science of Effective Communication
DESCRIPTION:One of the biggest challenges throughout this new year is to constantly align your team towards key company goals\, while preventing financial losses due to misunderstandings\, internal conflicts\, and the lack of an environment where people feel safe to discuss important ideas.\n\nIn this workshop\, we will be deepening the following three critical foundations in communications that every business needs to create a high-performing environment.\n\n1.       Connecting vs. communicating  \n\n2.       Empowering vs. delegating\n\n3.       Leading vs. managing\n\nReserve your spot and join us on January 19th for a special evening where we will make your business our number one priority. \n\n \n\nAbout our guest speaker\n\n\n\nGiovanni Gonzalez is CEO of Mindful Performance Blueprint & Bestselling author.\n\nOver the last 12 years\, Giovanni has been mentoring business leaders\, community leaders and entrepreneurs to elevate their capacity to positively influence others and create high performing teams.\n\nHis influence has ranged from working with public and private sectors such as The United Nations\, universities\, police departments and nonprofit organizations.  Additionally\, he has worked with companies in Africa\, South America\, The Caribbean and North America implementing strategies to create a high-performing organizational culture.\n\nGiovanni has an undergraduate degree in International Affairs\, and a master's degree in the Science of Management and Leadership.  Anecdotes of his life and his personal transformation have been published in his book entitled\, "The Mind of an Immigrant"
X-ALT-DESC;FMTTYPE=text/html:<span style="font-family: tahoma\; font-size: 20px\; color: rgb(34\, 34\, 34)\;">One of the biggest challenges throughout this new year is to constantly align your team towards key company goals\, while preventing financial losses due to misunderstandings\, internal conflicts\, and the lack of an environment where people feel safe to discuss important ideas.</span><br />\n<span style="font-family: tahoma\; font-size: 20px\; color: rgb(34\, 34\, 34)\;">In this workshop\, we will be deepening the following three critical foundations&nbsp\;in communications that every business needs to create a high-performing environment.</span><br />\n<span style="font-family: tahoma\; font-size: 20px\; color: rgb(34\, 34\, 34)\;">1.</span><font face="tahoma"><span style="font-size: 20px\;">&nbsp\;&nbsp\;&nbsp\;&nbsp\;&nbsp\;&nbsp\;&nbsp\;</span></font><span style="font-family: tahoma\; font-size: 20px\; color: rgb(34\, 34\, 34)\;">Connecting vs. communicating &nbsp\;</span><br />\n<span style="font-family: tahoma\; font-size: 20px\; color: rgb(34\, 34\, 34)\;">2.</span><font face="tahoma"><span style="font-size: 20px\;">&nbsp\;&nbsp\;&nbsp\;&nbsp\;&nbsp\;&nbsp\;&nbsp\;</span></font><span style="font-family: tahoma\; font-size: 20px\; color: rgb(34\, 34\, 34)\;">Empowering vs. delegating</span><br />\n<span style="font-family: tahoma\; font-size: 20px\; color: rgb(34\, 34\, 34)\;">3.</span><font face="tahoma"><span style="font-size: 20px\;">&nbsp\;&nbsp\;&nbsp\;&nbsp\;&nbsp\;&nbsp\;&nbsp\;</span></font><span style="font-family: tahoma\; font-size: 20px\; color: rgb(34\, 34\, 34)\;">Leading vs. managing</span><br />\n<span style="font-family: tahoma\; font-size: 20px\; color: rgb(34\, 34\, 34)\;">Reserve your&nbsp\;spot and join us on January 19th for a special evening where we will make your business our number&nbsp\;one priority.&nbsp\;</span><br />\n<font face="tahoma"><span style="font-size: 20px\;">&nbsp\;</span></font><br />\n<span style="font-family: tahoma\; font-size: 20px\; color: rgb(34\, 34\, 34)\;">About our guest speaker</span><br />\n<br />\n<span style="font-family: tahoma\; font-size: 20px\; color: rgb(34\, 34\, 34)\;">Giovanni Gonzalez is&nbsp\;</span><font color="#222222" face="tahoma"><span style="font-size: 20px\;">CEO of&nbsp\;Mindful Performance Blueprint &amp\; Bestselling&nbsp\;author.</span></font><br />\n<span style="font-family: tahoma\; font-size: 20px\; color: rgb(34\, 34\, 34)\;">Over the last 12 years\, Giovanni has been mentoring business leaders\, community leaders and entrepreneurs to elevate their capacity to positively influence others and create high performing teams.</span><br />\n<span style="font-family: tahoma\; font-size: 20px\; color: rgb(34\, 34\, 34)\;">His influence has ranged from working with public and private sectors such as The United Nations\, universities\, police departments and nonprofit organizations.&nbsp\; Additionally\, he has worked with companies in Africa\, South America\, The Caribbean and North America implementing strategies to create a high-performing organizational culture.</span><br />\n<span style="font-family: tahoma\; font-size: 20px\; color: rgb(34\, 34\, 34)\;">Giovanni has an undergraduate degree in International Affairs\, and a master&rsquo\;s degree in the Science of Management and Leadership.&nbsp\; Anecdotes of his life and his personal transformation have been published in his book entitled\, &ldquo\;The Mind of an Immigrant&rdquo\;&nbsp\;</span>
LOCATION:2750 Buford Hwy NE\, Atlanta\, GA\, 30324 Second Floor\, Auditorium #1
UID:e.9342.1698
SEQUENCE:3
DTSTAMP:20260421T160645Z
URL:http://georgiahcaga.memberzone.com/events/details/the-art-science-of-effective-communication-1698
END:VEVENT

END:VCALENDAR
