BEGIN:VCALENDAR
VERSION:2.0
PRODID:-//ChamberMaster//Event Calendar 2.0//EN
METHOD:PUBLISH
X-PUBLISHED-TTL:P3D
REFRESH-INTERVAL:P3D
CALSCALE:GREGORIAN
BEGIN:VEVENT
DTSTART:20210317T150000Z
DTEND:20210317T163000Z
X-MICROSOFT-CDO-ALLDAYEVENT:FALSE
SUMMARY:The Blue Book Network & Atlanta MBDA Centers at GA Tech Webinar
DESCRIPTION:Join The Blue Book in partnership with the Georgia Institute of Technology Minority Business Development Agency (MBDA) to grow in 2021!\n\n\n\nConnect with The Blue Book Network in partnership with the Atlanta MBDA Centers at GA Tech as we share how we can help you accomplish your 2021 Business goals for Growth in 2021\n\n\n\nThere will be time allotted to introduce your company.\n\n\n\nAdvance Registration Required.\n\n\n\nPrizes awarded during the meeting but you must participate to win
X-ALT-DESC;FMTTYPE=text/html:<div class="g-group l-lg-mar-bot-6 l-md-mar-bot-4  " style="margin: 0px 0px 30px\; padding: 0px\; font-size: 0px\; letter-spacing: 0px\; color: rgb(57\, 54\, 79)\; font-family: &quot\;Neue Plak&quot\;\, -apple-system\, BlinkMacSystemFont\, Roboto\, &quot\;Helvetica Neue&quot\;\, Helvetica\, Tahoma\, Arial\, sans-serif\;">\n<div class="g-cell g-cell-10-12 g-cell-md-1-1" style="margin: 0px\; padding: 0px 15px\; width: 560px\; box-sizing: border-box\; display: inline-block\; overflow: hidden\; vertical-align: top\; letter-spacing: 0.5px\; font-size: 0.933333rem\; line-height: 1.25rem\;">\n<div class="has-user-generated-content" style="margin: 0px\; padding: 0px\;">\n<div class="text-body-medium" data-automation="listing-event-description" style="margin: 0px\; padding: 0px\; font-size: 0.933333rem\; line-height: 1.25rem\;"><span style="font-size:16px\;"><span style="font-family:tahoma\;"><span style="font-weight: 700\; padding-top: 0px\;">Join The Blue Book in partnership with the Georgia Institute of Technology Minority Business Development Agency (MBDA) to grow in 2021!</span></span></span><br />\n<br />\n<span style="color:#000000\;"><span style="font-size:16px\;"><span style="font-family:tahoma\;">Connect with The Blue Book Network in partnership with the Atlanta MBDA Centers at GA Tech as we share how we can help you accomplish your 2021 Business goals for Growth in 2021</span></span></span><br />\n<br />\n<span style="color:#000000\;"><span style="font-size:16px\;"><span style="font-family:tahoma\;">There will be time allotted to introduce your company.</span></span></span><br />\n<br />\n<span style="color:#000000\;"><span style="font-size:16px\;"><span style="font-family:tahoma\;">Advance Registration Required.</span></span></span><br />\n<br />\n<span style="color:#000000\;"><span style="font-size:16px\;"><span style="font-family:tahoma\;">Prizes awarded during the meeting but you must participate to win</span></span></span></div>\n</div>\n</div>\n</div>\n
LOCATION:ONLINE - Registration required Register HERE
UID:e.9342.1584
SEQUENCE:3
DTSTAMP:20260423T080914Z
URL:http://georgiahcaga.memberzone.com/events/details/the-blue-book-network-atlanta-mbda-centers-at-ga-tech-webinar-1584
END:VEVENT

END:VCALENDAR
