BEGIN:VCALENDAR
VERSION:2.0
PRODID:-//ChamberMaster//Event Calendar 2.0//EN
METHOD:PUBLISH
X-PUBLISHED-TTL:P3D
REFRESH-INTERVAL:P3D
CALSCALE:GREGORIAN
BEGIN:VEVENT
DTSTART:20230928T213000Z
DTEND:20230929T003000Z
X-MICROSOFT-CDO-ALLDAYEVENT:FALSE
SUMMARY:The Story of Batson-Cook
DESCRIPTION:Randy Hall will share the remarkable story of Batson-Cook\, a company with a history spanning over a century. He will provide valuable insights into the challenges and triumphs that come with building and sustaining a business for more than 100 years. Diana Argote\, Founder and CFO of Rays Stairs and Member of the GHCA Board\, will lead the conversation with Randy Hall and we are hoping to inspire and share valuable information for our members in their quest to grow their businesses.\n\n \n\nThis event is by invitation only and promises to be an engaging and insightful conversation. We look forward to sharing this unique evening with you.
X-ALT-DESC;FMTTYPE=text/html:<p align="justify" style="margin: 0px\; padding: 0px\; color: rgb(46\, 47\, 47)\; font-family: Verdana\, Geneva\, sans-serif\; font-size: 14px\; text-align: justify\;"><span style="font-size:22px\;"><span style="font-family:tahoma\;"><span style="color: rgb(0\, 0\, 0)\; font-weight: bold\;">Randy Hall&nbsp\;</span><span style="color: rgb(0\, 0\, 0)\;">will share the remarkable story of&nbsp\;</span><span style="color: rgb(0\, 0\, 0)\; font-weight: bold\;">Batson-Cook</span><span style="color: rgb(0\, 0\, 0)\;">\, a company with a history spanning over a century. He will provide valuable insights into the challenges and triumphs that come with building and sustaining a business for more than 100 years.&nbsp\;</span><span style="color: rgb(0\, 0\, 0)\; font-weight: bold\;">Diana Argote</span><span style="color: rgb(0\, 0\, 0)\;">\, Founder and CFO of&nbsp\;</span><span style="color: rgb(0\, 0\, 0)\; font-weight: bold\;">Rays Stairs</span><span style="color: rgb(0\, 0\, 0)\;">&nbsp\;and&nbsp\;</span><span style="color: rgb(0\, 0\, 0)\; font-style: italic\;">Member of the GHCA Board\,&nbsp\;</span><span style="color: rgb(0\, 0\, 0)\;">will lead the conversation with Randy Hall and we are hoping to inspire and share valuable information for our members in their quest to grow their businesses.</span></span></span></p>\n\n<p align="justify" style="margin: 0px\; padding: 0px\; color: rgb(46\, 47\, 47)\; font-family: Verdana\, Geneva\, sans-serif\; font-size: 14px\; text-align: justify\;">&nbsp\;</p>\n\n<p align="justify" style="margin: 0px\; padding: 0px\; color: rgb(46\, 47\, 47)\; font-family: Verdana\, Geneva\, sans-serif\; font-size: 14px\; text-align: justify\;"><span style="font-size:22px\;"><span style="font-family:tahoma\;"><span style="color: rgb(0\, 0\, 0)\;">This event is by invitation only and promises to be an engaging and insightful conversation. We look forward to sharing this unique evening with you.</span></span></span></p>\n
LOCATION:Details provided upon registration.
UID:e.9342.1727
SEQUENCE:3
DTSTAMP:20260420T161335Z
URL:http://georgiahcaga.memberzone.com/events/details/the-story-of-batson-cook-1727
END:VEVENT

END:VCALENDAR
