BEGIN:VCALENDAR
VERSION:2.0
PRODID:-//ChamberMaster//Event Calendar 2.0//EN
METHOD:PUBLISH
X-PUBLISHED-TTL:P3D
REFRESH-INTERVAL:P3D
CALSCALE:GREGORIAN
BEGIN:VEVENT
DTSTART:20220308T220000Z
DTEND:20220308T231500Z
X-MICROSOFT-CDO-ALLDAYEVENT:FALSE
SUMMARY:To Build or Not to Build – Virtual Event
DESCRIPTION:To Build or Not to Build   Is a Career in Construction For You?\n\nThat is the Question\, Girlfriend!\n\nCelebrate International Women's Day and Women in\n\nConstruction Week\n\nAre you looking for a career\, one with opportunity\, growth\, and sustainable wages? Are you looking for something more than just a job\, some place where you can learn skills and use those skills to move up the ladder? Register now by clicking the zoom meeting link below for this exciting opportunity to hear the personal stories of these successful women in the construction industry\, what they love about it\, how they got their start\, the challenges\, the rewards\, and what they see in their futures.\n\nModerator:\n\nU.S. Department of Labor OSHA\n\nMarilyn M Velez\n\n \n\nPanelists:\n\nNational Association of Women in Construction\n\nChristina Fraley\n\n \n\nNational Association of Black Women in Construction\n\nXiomara Yanique\n\n \n\nLatinas in Construction\, GA Hispanic Construction Association\n\nClara Richardson-Olguin\n\n \n\nCherokee Family Violence Center\n\nNorma Mendoza and Maricela Rivera\n\n \n\nMcCarthy Partnership for Women\, McCarthy Craft Career Paths\n\nTrina Parks\n\n \n\nWomen Gone Global Partners\n\nValencia McDaniel and Erica Jean-Baptiste\n\n \n\nConstruction Ready\n\nVeda White
X-ALT-DESC;FMTTYPE=text/html:<span style="font-size:22px\;"><span style="font-family:tahoma\;"><span style="color:#c00000\;">To&nbsp\;Build&nbsp\;or&nbsp\;Not&nbsp\;to&nbsp\;Build&nbsp\;&ndash\;&nbsp\;Is a&nbsp\;Career in&nbsp\;Construction&nbsp\;For&nbsp\;You?</span><br />\n<span style="color:#c00000\;">That&nbsp\;is&nbsp\;the&nbsp\;Question\,&nbsp\;Girlfriend!</span><br />\n<span style="color:#c00000\;">Celebrate&nbsp\;International&nbsp\;Women&rsquo\;s&nbsp\;Day&nbsp\;and Women in</span><br />\n<span style="color:#c00000\;">Construction Week</span><br />\n<span style="font-size:18px\;">Are&nbsp\;you looking&nbsp\;for&nbsp\;a&nbsp\;career\,&nbsp\;one with&nbsp\;opportunity\,&nbsp\;growth\,&nbsp\;and sustainable&nbsp\;wages?&nbsp\;Are you&nbsp\;looking&nbsp\;for&nbsp\;something&nbsp\;more than&nbsp\;just&nbsp\;a job\,&nbsp\;some place where you can&nbsp\;learn&nbsp\;skills&nbsp\;and&nbsp\;use those skills&nbsp\;to move up&nbsp\;the ladder?&nbsp\;Register&nbsp\;now&nbsp\;by&nbsp\;clicking&nbsp\;the zoom&nbsp\;meeting&nbsp\;link below&nbsp\;for&nbsp\;this exciting&nbsp\;opportunity&nbsp\;to&nbsp\;hear&nbsp\;the personal&nbsp\;stories&nbsp\;of these successful&nbsp\;women&nbsp\;in&nbsp\;the construction&nbsp\;industry\,&nbsp\;what&nbsp\;they&nbsp\;love about&nbsp\;it\,&nbsp\;how&nbsp\;they&nbsp\;got&nbsp\;their&nbsp\;start\,&nbsp\;the challenges\,&nbsp\;the&nbsp\;rewards\,&nbsp\;and what they&nbsp\;see&nbsp\;in&nbsp\;their&nbsp\;futures.</span></span></span><br />\n<strong><span style="color: rgb(0\, 111\, 192)\;"><span style="font-size: 12pt\;">Moderator:</span></span></strong><br />\n<strong><span style="color: rgb(0\, 111\, 192)\;"><span style="font-size: 12pt\;">U.S.&nbsp\;Department&nbsp\;of Labor OSHA</span></span></strong><br />\n<strong><span style="color: rgb(0\, 111\, 192)\;"><span style="font-size: 12pt\;">Marilyn&nbsp\;M&nbsp\;Velez</span></span></strong><br />\n&nbsp\;<br />\n<strong><span style="color: rgb(0\, 111\, 192)\;"><span style="font-size: 12pt\;">Panelists:</span></span></strong><br />\n<strong><span style="color: rgb(0\, 111\, 192)\;"><span style="font-size: 12pt\;">National Association&nbsp\;of Women&nbsp\;in&nbsp\;Construction</span></span></strong><br />\n<strong><span style="color: rgb(0\, 111\, 192)\;"><span style="font-size: 12pt\;">Christina&nbsp\;Fraley</span></span></strong><br />\n&nbsp\;<br />\n<strong><span style="color: rgb(0\, 111\, 192)\;"><span style="font-size: 12pt\;">National Association&nbsp\;of Black&nbsp\;Women&nbsp\;in Construction</span></span></strong><br />\n<strong><span style="color: rgb(0\, 111\, 192)\;"><span style="font-size: 12pt\;">Xiomara&nbsp\;Yanique</span></span></strong><br />\n&nbsp\;<br />\n<strong><span style="color: rgb(0\, 111\, 192)\;"><span style="font-size: 12pt\;">Latinas&nbsp\;in&nbsp\;Construction\, GA Hispanic&nbsp\;Construction Association</span></span></strong><br />\n<strong><span style="color: rgb(0\, 111\, 192)\;"><span style="font-size: 12pt\;">Clara&nbsp\;Richardson-Olguin</span></span></strong><br />\n&nbsp\;<br />\n<strong><span style="color: rgb(0\, 111\, 192)\;"><span style="font-size: 12pt\;">Cherokee&nbsp\;Family&nbsp\;Violence Center</span></span></strong><br />\n<strong><span style="color: rgb(0\, 111\, 192)\;"><span style="font-size: 12pt\;">Norma&nbsp\;Mendoza&nbsp\;and Maricela&nbsp\;Rivera</span></span></strong><br />\n&nbsp\;<br />\n<strong><span style="color: rgb(0\, 111\, 192)\;"><span style="font-size: 12pt\;">McCarthy&nbsp\;Partnership&nbsp\;for Women\,&nbsp\;McCarthy&nbsp\;Craft Career&nbsp\;Paths</span></span></strong><br />\n<strong><span style="color: rgb(0\, 111\, 192)\;"><span style="font-size: 12pt\;">Trina&nbsp\;Parks</span></span></strong><br />\n&nbsp\;<br />\n<strong><span style="color: rgb(0\, 111\, 192)\;"><span style="font-size: 12pt\;">Women&nbsp\;Gone&nbsp\;Global Partners</span></span></strong><br />\n<strong><span style="color: rgb(0\, 111\, 192)\;"><span style="font-size: 12pt\;">Valencia&nbsp\;McDaniel and Erica&nbsp\;Jean-Baptiste</span></span></strong><br />\n&nbsp\;<br />\n<strong><span style="color: rgb(0\, 111\, 192)\;"><span style="font-size: 12pt\;">Construction&nbsp\;Ready</span></span></strong><br />\n<strong><span style="color: rgb(0\, 111\, 192)\;"><span style="font-size: 12pt\;">Veda&nbsp\;White</span></span></strong><br />\n&nbsp\;
LOCATION:Virtual Panel Discussion Tuesday\, March 8\, 2022 5:00 pm - 6:15 pm EST
UID:e.9342.1622
SEQUENCE:3
DTSTAMP:20260422T100524Z
URL:http://georgiahcaga.memberzone.com/events/details/to-build-or-not-to-build-virtual-event-1622
END:VEVENT

END:VCALENDAR
