BEGIN:VCALENDAR
VERSION:2.0
PRODID:-//ChamberMaster//Event Calendar 2.0//EN
METHOD:PUBLISH
X-PUBLISHED-TTL:P3D
REFRESH-INTERVAL:P3D
CALSCALE:GREGORIAN
BEGIN:VEVENT
DTSTART:20231027T130000Z
DTEND:20231027T160000Z
X-MICROSOFT-CDO-ALLDAYEVENT:FALSE
SUMMARY:UGA Small Business Development Center - Small Business Financing Event
DESCRIPTION:Special small business financing program being offered by the UGA Small Business Development Center. \n\n\n\n\n\nThis program will cover the new State Small Business Credit Initiative program\, designed to support small businesses' access to capital\, in addition to covering other various types of financing including conventional bank loans\, SBA-guaranteed loans\, private equity\, specialty lending programs and grant funding.\n\n \n\nProgram facilitators will delve into the common myths and misconceptions surrounding the financing of small businesses and provide an understanding of the realities entrepreneurs face.
X-ALT-DESC;FMTTYPE=text/html:&nbsp\;Special small business financing program being offered by the UGA Small Business Development Center.&nbsp\;<br />\n<br />\n<br />\nThis program will cover the new State Small Business Credit Initiative program\, designed to support small businesses&rsquo\; access to capital\, in addition to covering other various types of financing including conventional bank loans\, SBA-guaranteed loans\, private equity\, specialty lending programs and grant funding.<br />\n&nbsp\;<br />\nProgram facilitators will delve into the common myths and misconceptions surrounding the financing of small businesses and provide an understanding of the realities entrepreneurs face.
LOCATION:2530 Sever Rd. Lawrenceville\, GA 30043
UID:e.9342.1769
SEQUENCE:3
DTSTAMP:20260420T142843Z
URL:http://georgiahcaga.memberzone.com/events/details/uga-small-business-development-center-small-business-financing-event-1769
END:VEVENT

END:VCALENDAR
