BEGIN:VCALENDAR
VERSION:2.0
PRODID:-//ChamberMaster//Event Calendar 2.0//EN
METHOD:PUBLISH
X-PUBLISHED-TTL:P3D
REFRESH-INTERVAL:P3D
CALSCALE:GREGORIAN
BEGIN:VEVENT
DTSTART:20240229T230000Z
DTEND:20240301T010000Z
X-MICROSOFT-CDO-ALLDAYEVENT:FALSE
SUMMARY:Virtual Event: Cobb County Disparity Study
DESCRIPTION:Como parte del Estudio de Disparidad del Condado de Cobb 2024\, la GHCA\, junto a Griffin & Strong\, P.C. realizar  una sesi n virtual para conocer la opini n y experiencias de empresas y otros miembros de la comunidad que hayan realizado negocios con el condado de Cobb o intentado hacerlo. El estudio examinar  el proceso de adquisiciones del condado y las interacciones con Empresas de Minor as\, Mujeres y Veteranos Discapacitados due os de Negocios. La sesi n es una oportunidad para que las empresas y otros miembros de la\n\ncomunidad dejen constancia de sus comentarios sobre hacer negocios o intentar hacer negocios con el condado.
X-ALT-DESC;FMTTYPE=text/html:<div style="color: rgb(0\, 0\, 0)\; font-family: Aptos\, Aptos_EmbeddedFont\, Aptos_MSFontService\, Calibri\, Helvetica\, sans-serif\; font-size: 16px\;"><span style="font-size:22px\;"><span style="font-family:tahoma\;"><span style="color:#000000\;">Como parte del Estudio de Disparidad&nbsp\;del Condado de Cobb 2024\, la GHCA\, junto a Griffin &amp\; Strong\, P.C. realizar&aacute\; una sesi&oacute\;n virtual para conocer la opini&oacute\;n y experiencias de empresas y otros miembros de la comunidad que hayan realizado negocios con el condado de Cobb o intentado hacerlo. El estudio examinar&aacute\; el proceso de adquisiciones del condado y las interacciones con Empresas de Minor&iacute\;as\, Mujeres y Veteranos Discapacitados due&ntilde\;os de Negocios. La sesi&oacute\;n es una oportunidad para que las empresas y otros miembros de la<br />\ncomunidad dejen constancia de sus comentarios sobre hacer negocios o intentar hacer negocios con el condado.</span></span></span><br />\n<br />\n<br />\n&nbsp\;</div>\n
LOCATION:Acceso virtual: Reg strate aqu . https://gspclaw.zoom.us/meeting/register/tZMudOusrTIoGtEzO3Syf2nTOz7cRUNzBzeA
UID:e.9342.1804
SEQUENCE:3
DTSTAMP:20260420T035658Z
URL:http://georgiahcaga.memberzone.com/events/details/virtual-event-cobb-county-disparity-study-1804
END:VEVENT

END:VCALENDAR
