BEGIN:VCALENDAR
VERSION:2.0
PRODID:-//ChamberMaster//Event Calendar 2.0//EN
METHOD:PUBLISH
X-PUBLISHED-TTL:P3D
REFRESH-INTERVAL:P3D
CALSCALE:GREGORIAN
BEGIN:VEVENT
DTSTART:20210513T203000Z
DTEND:20210513T220000Z
X-MICROSOFT-CDO-ALLDAYEVENT:FALSE
SUMMARY:Virtual GHCA Meet & Greet
DESCRIPTION:Virtual Meet & Greet\n\n\n\nRegistration Requiered
X-ALT-DESC;FMTTYPE=text/html:<span style="font-size:22px\;"><span style="font-family:tahoma\;">Virtual Meet &amp\; Greet<br />\n<br />\nRegistration Requiered</span></span>
LOCATION:
UID:e.9342.1588
SEQUENCE:3
DTSTAMP:20260423T044807Z
URL:http://georgiahcaga.memberzone.com/events/details/virtual-ghca-meet-greet-1588
END:VEVENT

END:VCALENDAR
