BEGIN:VCALENDAR
VERSION:2.0
PRODID:-//ChamberMaster//Event Calendar 2.0//EN
METHOD:PUBLISH
X-PUBLISHED-TTL:P3D
REFRESH-INTERVAL:P3D
CALSCALE:GREGORIAN
BEGIN:VEVENT
DTSTART;VALUE=DATE:20200915
DTEND;VALUE=DATE:20200916
TRANSP:TRANSPARENT
X-MICROSOFT-CDO-ALLDAYEVENT:TRUE
SUMMARY:VISION 360
DESCRIPTION:La Asociaci n de Construcci n Hispana de Georgia une esfuerzos con la C mara de Comercio Hispana de Georgia para traer VISI N 360 en la comodidad de su oficina o casa! \n\n\n\nUn panel dise ado por expertos en temas claves para hacer crecer su negocio: Recursos Humanos\, Tecnolog a y Marketing y Ventas.\n\n\n\nUna sesi n interactiva y din mica en la que se brindar  informaci n que puede hacer la diferencia y le permitir  llegar al siguiente nivel y multiplicar la eficiencia de su negocio.
X-ALT-DESC;FMTTYPE=text/html:<div style="overflow-wrap: break-word\; margin: 0px\; font-family: system-ui\, -apple-system\, BlinkMacSystemFont\, &quot\;.SFNSText-Regular&quot\;\, sans-serif\; color: rgb(5\, 5\, 5)\; font-size: 15px\;">La Asociaci&oacute\;n de Construcci&oacute\;n Hispana de Georgia une esfuerzos con la C&aacute\;mara de Comercio Hispana de Georgia para traer VISI&Oacute\;N 360 en la comodidad de su oficina o casa!&nbsp\;</div>\n\n<div style="overflow-wrap: break-word\; margin: 0.5em 0px 0px\; font-family: system-ui\, -apple-system\, BlinkMacSystemFont\, &quot\;.SFNSText-Regular&quot\;\, sans-serif\; color: rgb(5\, 5\, 5)\; font-size: 15px\;"><br />\nUn panel dise&ntilde\;ado por expertos en temas claves para hacer crecer su negocio: Recursos Humanos\, Tecnolog&iacute\;a y Marketing y Ventas.</div>\n\n<div style="overflow-wrap: break-word\; margin: 0.5em 0px 0px\; font-family: system-ui\, -apple-system\, BlinkMacSystemFont\, &quot\;.SFNSText-Regular&quot\;\, sans-serif\; color: rgb(5\, 5\, 5)\; font-size: 15px\;"><br />\nUna sesi&oacute\;n interactiva y din&aacute\;mica en la que se brindar&aacute\; informaci&oacute\;n que puede hacer la diferencia y le permitir&aacute\; llegar al siguiente nivel y multiplicar la eficiencia de su negocio.</div>\n\n<div style="overflow-wrap: break-word\; margin: 0.5em 0px 0px\; font-family: system-ui\, -apple-system\, BlinkMacSystemFont\, &quot\;.SFNSText-Regular&quot\;\, sans-serif\; color: rgb(5\, 5\, 5)\; font-size: 15px\;">&nbsp\;</div>\n
LOCATION:Sesi n en L nea
UID:e.9342.1476
SEQUENCE:3
DTSTAMP:20260424T055646Z
URL:http://georgiahcaga.memberzone.com/events/details/vision-360-09-15-2020-1476
END:VEVENT

END:VCALENDAR
