BEGIN:VCALENDAR
VERSION:2.0
PRODID:-//ChamberMaster//Event Calendar 2.0//EN
METHOD:PUBLISH
X-PUBLISHED-TTL:P3D
REFRESH-INTERVAL:P3D
CALSCALE:GREGORIAN
BEGIN:VEVENT
DTSTART:20200403T183000Z
DTEND:20200403T200000Z
X-MICROSOFT-CDO-ALLDAYEVENT:FALSE
SUMMARY:Webinar - How to stay calm and excel in times of crisis!
DESCRIPTION:How To Stay Calm and Excel in Times of Crisis \n \n\nWith the current social conditions\, everybody is feeling an unprecedented pressure to adjust\, be creative and be present to any opportunities available in the marketplace\, while at the same time confronting unique levels of stress and anxiety at home.\n\nIn an effort to equip our members with the best tools for emotional intelligence and effective communication we are hosting a LIVE online webinar training on How to Keep Calm and Excel in Times of Crisis.\n\n\n\nOn this webinar you will be trained in the following: \n\n1.       How to gain control of your emotions and be effective in any situation. \n\n2.       How to keep momentum going your way under difficult conditions \n\n3.       How to recognize the triggers that get in the way of effective    communication.\n\n\n\nREGISTER HERE https://zoom.us/meeting/register/tZMrcuCopj8jvsqNfpd1ocYrXXk6WERR4Q
X-ALT-DESC;FMTTYPE=text/html:<span style="font-size:16px\;"><strong style="color: rgb(34\, 34\, 34)\; font-family: Arial\, Helvetica\, sans-serif\;"><u>How To Stay Calm and Excel in Times of Crisis&nbsp\;</u></strong></span>\n<div style="color:rgb(34\, 34\, 34)\;font-family:Arial\, Helvetica\, sans-serif\;">&nbsp\;</div>\n\n<div style="color:rgb(34\, 34\, 34)\;font-family:Arial\, Helvetica\, sans-serif\;"><span style="font-size:18px\;"><span style="font-size:14px\;">With the current social conditions\, everybody is feeling an unprecedented&nbsp\;pressure to adjust\, be creative and be present to any opportunities available in the marketplace\, while at the same time confronting unique levels of stress and anxiety at home.<br />\nIn an effort to equip our members with the best tools for emotional intelligence and effective communication we are hosting a LIVE online webinar training on&nbsp\;<strong>How to Keep Calm and Excel in Times of Crisis.</strong><br />\n<br />\nOn this webinar you will be trained in the following:&nbsp\;<br />\n1.&nbsp\;&nbsp\;&nbsp\;&nbsp\;&nbsp\;&nbsp\;&nbsp\;How to gain&nbsp\;control of your emotions and be effective in any situation.&nbsp\;<br />\n2.&nbsp\;&nbsp\;&nbsp\;&nbsp\;&nbsp\;&nbsp\;&nbsp\;How to keep momentum going your way under difficult conditions&nbsp\;<br />\n3.&nbsp\;&nbsp\;&nbsp\;&nbsp\;&nbsp\;&nbsp\;&nbsp\;How to recognize the triggers that get in the way of effective &nbsp\; &nbsp\;communication.</span></span><br />\n<br />\nREGISTER HERE&nbsp\;<a data-saferedirecturl="https://www.google.com/url?q=https://zoom.us/meeting/register/tZMrcuCopj8jvsqNfpd1ocYrXXk6WERR4Q&amp\;source=gmail&amp\;ust=1585879222810000&amp\;usg=AFQjCNFh3lLOtDq9jRpRvucdlHYI_b_fTw" href="https://zoom.us/meeting/register/tZMrcuCopj8jvsqNfpd1ocYrXXk6WERR4Q" style="color: rgb(17\, 85\, 204)\; font-family: Arial\, Helvetica\, sans-serif\;" target="_blank">https://zoom.us/meeting/<wbr />register/<wbr />tZMrcuCopj8jvsqNfpd1ocYrXXk6WE<wbr />RR4Q</a></div>\n
LOCATION:ONLINE SESSION: Please Join us this using the following link to register in advance. After registering\, you will receive a confirmation email containing information about joining the meeting.
UID:e.9342.1504
SEQUENCE:3
DTSTAMP:20260424T162947Z
URL:http://georgiahcaga.memberzone.com/events/details/webinar-how-to-stay-calm-and-excel-in-times-of-crisis-1504
END:VEVENT

END:VCALENDAR
