BEGIN:VCALENDAR
VERSION:2.0
PRODID:-//ChamberMaster//Event Calendar 2.0//EN
METHOD:PUBLISH
X-PUBLISHED-TTL:P3D
REFRESH-INTERVAL:P3D
CALSCALE:GREGORIAN
BEGIN:VEVENT
DTSTART:20221115T223000Z
DTEND:20221116T003000Z
X-MICROSOFT-CDO-ALLDAYEVENT:FALSE
SUMMARY:Workshop: Learn about SBA 504 / SBA 7(a) Loans
DESCRIPTION:LOANS FOR REAL ESTATE\, CONSTRUCTION AND LEASEHOLD IMPROVEMENTS\, EQUIPMENT AND OTHERS.  If you are a registered business owner and are interested in acquiring a property\, building or remodeling\, buying equipment or furniture\, this workshop is for you! Experts from Bank of America will cover the SBA 504 and SBA 7(a) loan programs so you can make the best-informed decision on which best suits the needs of your business. In this event you will learn about Bank of America's down payment grant program\, an initiative designed to support entrepreneurs in such a fundamental step for their businesses. This free workshop will be in Spanish and English\, simultaneously. Interested participants must have a registered business with a minimum of 2 years of operation and annual revenues equal to\, or greater than\, US $1\,000\,000.00. Non-profit entities are not eligible for SBA financing.
X-ALT-DESC;FMTTYPE=text/html:<font color="#555555" face="Lucida Grande\, sans-serif"><span style="font-size: 14.994px\;">LOANS FOR REAL ESTATE\, CONSTRUCTION AND LEASEHOLD IMPROVEMENTS\, EQUIPMENT AND OTHERS.&nbsp\; If you are a registered business owner and are interested in acquiring a property\, building or remodeling\, buying equipment or furniture\, this workshop is for you! Experts from Bank of America will cover the SBA 504 and SBA 7(a) loan programs so you can make the best-informed&nbsp\;decision on which best suits the needs of your business. In this event you will learn about Bank of America&#39\;s down payment grant program\, an initiative designed to support entrepreneurs in such a fundamental step for their businesses. This free workshop will be in Spanish and English\, simultaneously. Interested participants must have a registered business with a minimum of 2 years of operation and annual revenues equal to\, or greater than\, US $1\,000\,000.00. Non-profit entities are not eligible for SBA financing.</span></font>
LOCATION:Latin American Association 2750 Buford Hwy NE\, Atlanta\, GA\, 30024
UID:e.9342.1696
SEQUENCE:3
DTSTAMP:20260421T174311Z
URL:http://georgiahcaga.memberzone.com/events/details/workshop-learn-about-sba-504-sba-7-a-loans-1696
END:VEVENT

END:VCALENDAR
