BEGIN:VCALENDAR
VERSION:2.0
PRODID:-//ChamberMaster//Event Calendar 2.0//EN
METHOD:PUBLISH
X-PUBLISHED-TTL:P3D
REFRESH-INTERVAL:P3D
CALSCALE:GREGORIAN
BEGIN:VEVENT
DTSTART:20220929T213000Z
DTEND:20220929T233000Z
X-MICROSOFT-CDO-ALLDAYEVENT:FALSE
SUMMARY:Workshop: Lectura de planos
DESCRIPTION:Te invitamos a participar el jueves 29 de septiembre en este workshop gratuito sobre Lectura de Planos\, impartido completamente en espa ol por Bertha Aybar\, estimadora de HJ Russell.\n\n \n\nAbordaremos aspectos fundamentales para nuestro trabajo cotidiano en el sector de la construcci n\, como el nacimiento de un proyecto\, los procesos de dise o e ingenier a y construcci n.\n\n \n\nEsta presentaci n tambi n se enfocar  en conocer en detalle c mo debe realizarse una adecuada lectura de planos en t rminos de s mbolos gr ficos\, etiquetas\, leyendas y notas\, factores que te ayudar n a encontrar toda la informaci n que necesitas para elaborar tus proyectos o presentar cotizaciones de la manera m s precisa.
X-ALT-DESC;FMTTYPE=text/html:<div align="justify" style="text-align: justify\;"><span style="font-family:tahoma\;"><span style="font-size:22px\;"><span style="color:#000000\;">Te invitamos a participar el jueves 29 de septiembre en este workshop gratuito sobre&nbsp\;<span style="font-weight: bold\;">Lectura de Planos</span>\, impartido completamente en espa&ntilde\;ol por&nbsp\;<span style="font-style: italic\; font-weight: bold\;">Bertha Aybar</span>\, estimadora de&nbsp\;<span style="font-style: italic\; font-weight: bold\;">HJ Russell</span>.</span></span></span></div>\n\n<div align="justify" style="text-align: justify\;"><span style="font-family:tahoma\;"><span style="font-size:22px\;"><span style="color:#000000\;">&nbsp\;</span></span></span></div>\n\n<div align="justify" style="text-align: justify\;"><span style="font-family:tahoma\;"><span style="font-size:22px\;"><span style="color:#000000\;">Abordaremos aspectos fundamentales para nuestro trabajo cotidiano en el sector de la construcci&oacute\;n\, como el nacimiento de un proyecto\, los procesos de dise&ntilde\;o e ingenier&iacute\;a y construcci&oacute\;n.</span></span></span></div>\n\n<div align="justify" style="text-align: justify\;"><span style="font-family:tahoma\;"><span style="font-size:22px\;"><span style="color:#000000\;">&nbsp\;</span></span></span></div>\n\n<div align="justify" style="text-align: justify\;"><span style="font-family:tahoma\;"><span style="font-size:22px\;"><span style="color:#000000\;">Esta presentaci&oacute\;n tambi&eacute\;n se enfocar&aacute\; en conocer en detalle c&oacute\;mo debe realizarse una adecuada lectura de planos en t&eacute\;rminos de s&iacute\;mbolos gr&aacute\;ficos\, etiquetas\, leyendas y notas\, factores que te ayudar&aacute\;n a encontrar toda la informaci&oacute\;n que necesitas para elaborar tus proyectos o presentar cotizaciones de la manera m&aacute\;s precisa.</span></span></span></div>\n\n<div align="justify" style="text-align: justify\;">&nbsp\;</div>\n
LOCATION:
UID:e.9342.1677
SEQUENCE:3
DTSTAMP:20260421T211702Z
URL:http://georgiahcaga.memberzone.com/events/details/workshop-lectura-de-planos-1677
END:VEVENT

END:VCALENDAR
