BEGIN:VCALENDAR
VERSION:2.0
PRODID:-//ChamberMaster//Event Calendar 2.0//EN
METHOD:PUBLISH
X-PUBLISHED-TTL:P3D
REFRESH-INTERVAL:P3D
CALSCALE:GREGORIAN
BEGIN:VEVENT
DTSTART:20221202T230000Z
DTEND:20221202T173000Z
X-MICROSOFT-CDO-ALLDAYEVENT:FALSE
SUMMARY:XI Annual GHCA Awards Gala: Building Georgia 2022
DESCRIPTION:The Georgia Hispanic Construction Association is proud to invite you this year to its XI Annual Awards Gala: Building Georgia 2022. Every year\, the GHCA recognizes companies and individuals who make a difference in our industry and community and celebrates the gift of diversity and the incredible joy it brings into our lives. Please scroll down and check out previous year's Award Winners\, nominate companies and individuals in this year's Awards Gala\, see our picture gallery and even learn how to become a Sponsor of this magnificent event.\n\nThe XI Annual Awards Gala: Building Georgia 2022 will be held on December 2\, 2022 from 6:00 PM to 1:00 AM at the Crowne Plaza Atlanta Perimeter at Ravinia. For Table Sponsorships and Tickets please contact us at gmatute@georgiahca.org or call us at 404.229.8070
X-ALT-DESC;FMTTYPE=text/html:<p style="font-size: 16px\; box-sizing: border-box\; overflow-wrap: break-word\; margin: 0px 0px 10px\; caret-color: rgb(28\, 28\, 28)\; color: rgb(28\, 28\, 28)\; font-family: Helvetica\, Verdana\, Arial\, sans-serif\;"><span style="font-size:22px\;"><span style="color:#000000\;"><span style="font-family:tahoma\;">The Georgia Hispanic Construction Association is proud to invite you this year to its XI Annual Awards Gala: Building Georgia 2022. Every year\, the GHCA recognizes companies and individuals who make a difference in our industry and community and celebrates the gift of diversity and the incredible joy it brings into our lives. Please scroll down and check out previous year&#39\;s Award Winners\, nominate companies and individuals in this year&#39\;s Awards Gala\, see our picture gallery and even learn how to become a Sponsor of this magnificent event.</span></span></span></p>\n\n<p style="font-size: 16px\; box-sizing: border-box\; overflow-wrap: break-word\; margin: 0px 0px 10px\; caret-color: rgb(28\, 28\, 28)\; color: rgb(28\, 28\, 28)\; font-family: Helvetica\, Verdana\, Arial\, sans-serif\;"><span style="font-size:22px\;"><span style="color:#000000\;"><span style="font-family:tahoma\;">The XI Annual Awards Gala: Building Georgia 2022 will be held on December 2\, 2022 from 6:00 PM to 1:00 AM at the Crowne Plaza Atlanta Perimeter at Ravinia. For Table Sponsorships and Tickets please contact us at gmatute@georgiahca.org or call us at 404.229.8070</span></span></span></p>\n
LOCATION:
UID:e.9342.1617
SEQUENCE:3
DTSTAMP:20260421T143632Z
URL:http://georgiahcaga.memberzone.com/events/details/xi-annual-ghca-awards-gala-building-georgia-2022-1617
END:VEVENT

END:VCALENDAR
