BEGIN:VCALENDAR
VERSION:2.0
PRODID:-//ChamberMaster//Event Calendar 2.0//EN
METHOD:PUBLISH
X-PUBLISHED-TTL:P3D
REFRESH-INTERVAL:P3D
CALSCALE:GREGORIAN
BEGIN:VEVENT
DTSTART:20200427T210000Z
DTEND:20200427T220000Z
X-MICROSOFT-CDO-ALLDAYEVENT:FALSE
SUMMARY:Últimas Noticias sobre Inmigración! Entrevista!
DESCRIPTION:Lo  ltimo en Inmigraci n con Michael Urbina\, The Urbina Law Firm\n\nMon\, Apr 27\, 2020 5:00 PM - 6:00 PM (EDT)\n\n\n\nPlease join my meeting from your computer\, tablet or smartphone.\n\n\n\nhttps://global.gotomeeting.com/join/889282253\n\n\n\n\n\nYou can also dial in using your phone.\n\n(For supported devices\, tap a one-touch number below to join instantly.)\n\n\n\nUnited States: +1 (312) 757-3121\n\n- One-touch: tel:+13127573121\,\,889282253#\n\n\n\nAccess Code: 889-282-253\n\n\n\n\n\nNew to GoToMeeting? Get the app now and be ready when your first meeting starts:\n\n\n\nhttps://global.gotomeeting.com/install/889282253
X-ALT-DESC;FMTTYPE=text/html:Lo &Uacute\;ltimo en Inmigraci&oacute\;n con Michael Urbina\, The Urbina Law Firm<br />\nMon\, Apr 27\, 2020 5:00 PM - 6:00 PM (EDT)<br />\n<br />\nPlease join my meeting from your computer\, tablet or smartphone.<br />\n<br />\n<a href="https://global.gotomeeting.com/join/889282253">https://global.gotomeeting.com/join/889282253</a><br />\n<br />\n<br />\nYou can also dial in using your phone.<br />\n(For supported devices\, tap a one-touch number below to join instantly.)<br />\n<br />\nUnited States: +1 (312) 757-3121<br />\n- One-touch: tel:+13127573121\,\,889282253#<br />\n<br />\nAccess Code: 889-282-253<br />\n<br />\n<br />\nNew to GoToMeeting? Get the app now and be ready when your first meeting starts:<br />\n<br />\n<a href="https://global.gotomeeting.com/install/889282253">https://global.gotomeeting.com/install/889282253</a>
LOCATION:
UID:e.9342.1510
SEQUENCE:3
DTSTAMP:20260424T162947Z
URL:http://georgiahcaga.memberzone.com/events/details/&#250;ltimas-noticias-sobre-inmigraci&#243;n-entrevista-1510
END:VEVENT

END:VCALENDAR
